BEGIN:VCALENDAR
VERSION:2.0
PRODID:-//CompWall.co.uk - ECPv6.15.17.1//NONSGML v1.0//EN
CALSCALE:GREGORIAN
METHOD:PUBLISH
X-WR-CALNAME:CompWall.co.uk
X-ORIGINAL-URL:https://compwall.co.uk
X-WR-CALDESC:Events for CompWall.co.uk
REFRESH-INTERVAL;VALUE=DURATION:PT1H
X-Robots-Tag:noindex
X-PUBLISHED-TTL:PT1H
BEGIN:VTIMEZONE
TZID:Europe/London
BEGIN:DAYLIGHT
TZOFFSETFROM:+0000
TZOFFSETTO:+0100
TZNAME:BST
DTSTART:20240331T010000
END:DAYLIGHT
BEGIN:STANDARD
TZOFFSETFROM:+0100
TZOFFSETTO:+0000
TZNAME:GMT
DTSTART:20241027T010000
END:STANDARD
BEGIN:DAYLIGHT
TZOFFSETFROM:+0000
TZOFFSETTO:+0100
TZNAME:BST
DTSTART:20250330T010000
END:DAYLIGHT
BEGIN:STANDARD
TZOFFSETFROM:+0100
TZOFFSETTO:+0000
TZNAME:GMT
DTSTART:20251026T010000
END:STANDARD
BEGIN:DAYLIGHT
TZOFFSETFROM:+0000
TZOFFSETTO:+0100
TZNAME:BST
DTSTART:20260329T010000
END:DAYLIGHT
BEGIN:STANDARD
TZOFFSETFROM:+0100
TZOFFSETTO:+0000
TZNAME:GMT
DTSTART:20261025T010000
END:STANDARD
END:VTIMEZONE
BEGIN:VEVENT
DTSTART;TZID=Europe/London:20250705T000000
DTEND;TZID=Europe/London:20250705T000000
DTSTAMP:20260419T210327
CREATED:20250603T011239Z
LAST-MODIFIED:20251014T141537Z
UID:402-1751673600-1751673600@compwall.co.uk
SUMMARY:Welsh Climbing Cup
DESCRIPTION:Join Beacon Climbing Centre for an exciting evening of lead climbing as they host a climbing competition on 5/7/25 at  – open to Veteran\, Adults\, Youth A \, Youth B\, Youth C\, Youth D and Youth E. \n\n    We are not affiliated with the competition or connected to Beacon Climbing Centre in any way\, the information is provided from public information and may be out of date\, please confirm with the venue before travelling.\n\nType of Competition\n\n\nClimbing Style\n\n\n\nBouldering\n\n\n\nLead\nYes\n\n\nSpeed\n\n\n\nParaclimbing\n\n\n\nEntry Level\n\n\nAge Group\nMale\nFemale\n\n\nVeteran\nYes\nYes\n\n\nAdult\nYes\nYes\n\n\nJunior (u21)\n\n\n\n\nYouth A (u19)\nYes\nYes\n\n\nYouth B (u17)\nYes\nYes\n\n\nYouth C (u15)\nYes\nYes\n\n\nYouth D (u13)\nYes\nYes\n\n\nYouth E (u11)\nYes\nYes\n\n\nPrices\n\n\nMembers\n\n\n\nNon-Members\n35\n\n\nYouth\n\n\n\nPrizes\n\n\nCategory\nPrize\n\n\nVeteran\n\n\n\nAdults\n\n\n\nYouth A \n\n\n\nYouth B\n\n\n\nYouth C\n\n\n\nYouth D\n\n\n\nYouth E\n\n\n\n\n  Please Note\n  Whilst every attempt has been made to ensure accuracy\, things can change without our pages being updated – we always advise you check with the venue directly for correct information as we cannot guarantee the information here is accurate.
URL:https://compwall.co.uk/event/welsh-climbing-cup/
LOCATION:Beacon Climbing Centre\, Cibyn Industrial Estate\, Caernarfon\, Wales\, LL55 2BD\, United Kingdom
CATEGORIES:Lead
ATTACH;FMTTYPE=image/webp:https://compwall.co.uk/wp-content/uploads/2025/06/athletic-woman-climbing-indoors-view-260nw-387899734-e1748818328140-drFEix.webp
END:VEVENT
BEGIN:VEVENT
DTSTART;TZID=Europe/London:20250706T100000
DTEND;TZID=Europe/London:20250706T160000
DTSTAMP:20260419T210327
CREATED:20250604T153059Z
LAST-MODIFIED:20251014T141634Z
UID:597-1751796000-1751817600@compwall.co.uk
SUMMARY:Youth Summer Showdown
DESCRIPTION:Join The Reach Climbing Wall for an exciting evening of lead climbing as they host a climbing competition on 6/7/25 at 10:00 AM – open to Youth A \, Youth B\, Youth C\, Youth D and Youth E. \n\n\n    We are not affiliated with the competition or connected to The Reach Climbing Wall in any way\, the information is provided from public information and may be out of date\, please confirm with the venue before travelling.\n\n\nType of Competition\n\n  Climbing Style\n  Bouldering\nLeadYes\nSpeed\nParaclimbing\n\n\n\nEntry Level\n\n  \n    Age Group\n    Male\n    Female\n      \n  \n      \n        Veteran\n        \n        \n              \n\n      \n        Adult\n        \n        \n              \n\n      \n        Junior (u21)\n        \n        \n              \n\n      \n        Youth A (u19)\n        Yes\n        Yes\n              \n\n      \n        Youth B (u17)\n        Yes\n        Yes\n              \n\n      \n        Youth C (u15)\n        Yes\n        Yes\n              \n\n      \n        Youth D (u13)\n        Yes\n        Yes\n              \n\n      \n        Youth E (u11)\n        Yes\n        Yes\n              \n\n\nPrices\n\n  Members\n  Non-Members\n  Youth8\n\n\nPrizes\n\n  CategoryPrize\n  Youth A \nYouth B\nYouth C\nYouth D\nYouth E\n\n\n\n\n  Please Note\n  Whilst every attempt has been made to ensure accuracy\, things can change without our pages being updated – we always advise you check with the venue directly for correct information as we cannot guarantee the information here is accurate.
URL:https://compwall.co.uk/event/youth-summer-showdown/
LOCATION:The Reach Climbing Wall\, Unit 6\, Mellish Estate Harrington Way\, London\, London\, SE18 5NR\, United Kingdom
CATEGORIES:Lead
ATTACH;FMTTYPE=image/jpeg:https://compwall.co.uk/wp-content/uploads/2025/06/climbing-hold-bouldering-climbing-sport-climbing-adventure-rock-climbing-1624384-pxhere.com_-scaled.jpg
END:VEVENT
BEGIN:VEVENT
DTSTART;TZID=Europe/London:20250711T180000
DTEND;TZID=Europe/London:20250711T220000
DTSTAMP:20260419T210327
CREATED:20251010T202216Z
LAST-MODIFIED:20251014T141651Z
UID:976-1752256800-1752271200@compwall.co.uk
SUMMARY:One Night Only
DESCRIPTION:Join Green Spider Climbing for an exciting evening of Bouldering as they host a climbing competition on 11/7/25 at 6:00 PM – open to Veteran\, Adults\, Youth C\, Youth D and Youth E. \n\n    We are not affiliated with the competition or connected to Green Spider Climbing in any way\, the information is provided from public information and may be out of date\, please confirm with the venue before travelling.\n\nType of Competition\n\n\nClimbing Style\n\n\n\nBouldering\nYes\n\n\nLead\n\n\n\nSpeed\n\n\n\nParaclimbing\n\n\n\nEntry Level\n\n\nAge Group\nMale\nFemale\n\n\nVeteran\nYes\nYes\n\n\nAdult\nYes\nYes\n\n\nJunior (u21)\n\n\n\n\nYouth A (u19)\n\n\n\n\nYouth B (u17)\n\n\n\n\nYouth C (u15)\nYes\nYes\n\n\nYouth D (u13)\nYes\nYes\n\n\nYouth E (u11)\nYes\nYes\n\n\nPrices\n\n\nMembers\n\n\n\nNon-Members\n\n\n\nYouth\n\n\n\nPrizes\n\n\nCategory\nPrize\n\n\nVeteran\n\n\n\nAdults\n\n\n\nYouth C\n\n\n\nYouth D\n\n\n\nYouth E\n\n\n\n\n  Please Note\n  Whilst every attempt has been made to ensure accuracy\, things can change without our pages being updated – we always advise you check with the venue directly for correct information as we cannot guarantee the information here is accurate.
URL:https://compwall.co.uk/event/one-night-only/
LOCATION:Green Spider Climbing\, Building 420\, Rotherwas Industrial Estate\, Hereford\, West Midlands\, HR2 6LR\, United Kingdom
CATEGORIES:Bouldering
ATTACH;FMTTYPE=image/jpeg:https://compwall.co.uk/wp-content/uploads/2025/06/man-rock-sport-adventure-wall-male-1187474-pxhere.com_-scaled-G6E6x5.jpg
END:VEVENT
BEGIN:VEVENT
DTSTART;TZID=Europe/London:20250712T090000
DTEND;TZID=Europe/London:20250712T170000
DTSTAMP:20260419T210327
CREATED:20250603T095656Z
LAST-MODIFIED:20251014T141550Z
UID:472-1752310800-1752339600@compwall.co.uk
SUMMARY:Rock Solid Bouldering 2025 R2
DESCRIPTION:Join Friction Bouldering for an exciting evening of Bouldering as they host a climbing competition on 12/7/25 at 9:00 AM – open to Youth A \, Youth B\, Youth C\, Youth D and Youth E. \n\n    We are not affiliated with the competition or connected to Friction Bouldering in any way\, the information is provided from public information and may be out of date\, please confirm with the venue before travelling.\n\nType of Competition\n\n\nClimbing Style\n\n\n\nBouldering\nYes\n\n\nLead\n\n\n\nSpeed\n\n\n\nParaclimbing\n\n\n\nEntry Level\n\n\nAge Group\nMale\nFemale\n\n\nVeteran\n\n\n\n\nAdult\n\n\n\n\nJunior (u21)\n\n\n\n\nYouth A (u19)\nYes\nYes\n\n\nYouth B (u17)\nYes\nYes\n\n\nYouth C (u15)\nYes\nYes\n\n\nYouth D (u13)\nYes\nYes\n\n\nYouth E (u11)\nYes\nYes\n\n\nPrices\n\n\nMembers\n\n\n\nNon-Members\n\n\n\nYouth\n15\n\n\nPrizes\n\n\nCategory\nPrize\n\n\nYouth A \n\n\n\nYouth B\n\n\n\nYouth C\n\n\n\nYouth D\n\n\n\nYouth E\n\n\n\n\n  Please Note\n  Whilst every attempt has been made to ensure accuracy\, things can change without our pages being updated – we always advise you check with the venue directly for correct information as we cannot guarantee the information here is accurate.
URL:https://compwall.co.uk/event/rock-solid-bouldering-2025-r2/
LOCATION:Friction Bouldering\, 1B Saltmeadows Road\, Gateshead\, North East\, NE8 3AH\, United Kingdom
CATEGORIES:Bouldering
ATTACH;FMTTYPE=image/webp:https://compwall.co.uk/wp-content/uploads/2025/06/woman-practicing-rock-climbing-on-260nw-1035458215-e1748818226337-YvGc7d.webp
END:VEVENT
BEGIN:VEVENT
DTSTART;TZID=Europe/London:20250719T100000
DTEND;TZID=Europe/London:20250719T210000
DTSTAMP:20260419T210327
CREATED:20250603T170215Z
LAST-MODIFIED:20251014T141619Z
UID:533-1752919200-1752958800@compwall.co.uk
SUMMARY:Geddonbury
DESCRIPTION:Join The Climbing Hangar Plymouth for an exciting evening of Bouldering as they host a climbing competition on 19/7/25 at 10:00 AM – open to Adults\, Youth C\, Youth D and Youth E. \n\n    We are not affiliated with the competition or connected to The Climbing Hangar Plymouth in any way\, the information is provided from public information and may be out of date\, please confirm with the venue before travelling.\n\nType of Competition\n\n\nClimbing Style\n\n\n\nBouldering\nYes\n\n\nLead\n\n\n\nSpeed\n\n\n\nParaclimbing\n\n\n\nEntry Level\n\n\nAge Group\nMale\nFemale\n\n\nVeteran\n\n\n\n\nAdult\nYes\nYes\n\n\nJunior (u21)\n\n\n\n\nYouth A (u19)\n\n\n\n\nYouth B (u17)\n\n\n\n\nYouth C (u15)\nYes\nYes\n\n\nYouth D (u13)\nYes\nYes\n\n\nYouth E (u11)\nYes\nYes\n\n\nPrices\n\n\nMembers\n0\n\n\nNon-Members\nPAYG + £3\n\n\nYouth\n\n\n\nPrizes\n\n\nCategory\nPrize\n\n\nAdults\n\n\n\nYouth C\n\n\n\nYouth D\n\n\n\nYouth E\n\n\n\n\n  Please Note\n  Whilst every attempt has been made to ensure accuracy\, things can change without our pages being updated – we always advise you check with the venue directly for correct information as we cannot guarantee the information here is accurate.
URL:https://compwall.co.uk/event/geddonbury-2/
LOCATION:The Climbing Hangar Plymouth\, Unit 9\, Burrington Business Park\, Burrington Way\, Plymouth\, South West\, PL5 3LX\, United Kingdom
CATEGORIES:Bouldering
ATTACH;FMTTYPE=image/jpeg:https://compwall.co.uk/wp-content/uploads/2025/06/3252323206_78e892b9f9_b.jpg
END:VEVENT
BEGIN:VEVENT
DTSTART;TZID=Europe/London:20250719T120000
DTEND;TZID=Europe/London:20250719T180000
DTSTAMP:20260419T210327
CREATED:20250604T070140Z
LAST-MODIFIED:20251014T141621Z
UID:571-1752926400-1752948000@compwall.co.uk
SUMMARY:Junior Big Comp
DESCRIPTION:Join Harrowall Climbing Centre for an exciting evening of Bouldering as they host a climbing competition on 19/7/25 at 12:00 PM – open to Youth B\, Youth C\, Youth D and Youth E. \n\n    We are not affiliated with the competition or connected to Harrowall Climbing Centre in any way\, the information is provided from public information and may be out of date\, please confirm with the venue before travelling.\n\nType of Competition\n\n\nClimbing Style\n\n\n\nBouldering\nYes\n\n\nLead\n\n\n\nSpeed\n\n\n\nParaclimbing\n\n\n\nEntry Level\n\n\nAge Group\nMale\nFemale\n\n\nVeteran\n\n\n\n\nAdult\n\n\n\n\nJunior (u21)\n\n\n\n\nYouth A (u19)\n\n\n\n\nYouth B (u17)\nYes\nYes\n\n\nYouth C (u15)\nYes\nYes\n\n\nYouth D (u13)\nYes\nYes\n\n\nYouth E (u11)\nYes\nYes\n\n\nPrices\n\n\nMembers\n25\n\n\nNon-Members\n25\n\n\nYouth\n\n\n\nPrizes\n\n\nCategory\nPrize\n\n\nYouth B\n\n\n\nYouth C\n\n\n\nYouth D\n\n\n\nYouth E\n\n\n\n\n  Please Note\n  Whilst every attempt has been made to ensure accuracy\, things can change without our pages being updated – we always advise you check with the venue directly for correct information as we cannot guarantee the information here is accurate.
URL:https://compwall.co.uk/event/junior-big-comp/
LOCATION:HarroWall Climbing Centre\, Unit 2a\, Neptune Road Harrow On The Hill\, Harrow\, London\, HA1 4HX\, United Kingdom
CATEGORIES:Bouldering
ATTACH;FMTTYPE=image/jpeg:https://compwall.co.uk/wp-content/uploads/2025/06/man-rock-sport-adventure-wall-male-1187474-pxhere.com_-scaled-G6E6x5.jpg
END:VEVENT
BEGIN:VEVENT
DTSTART;TZID=Europe/London:20250726T090000
DTEND;TZID=Europe/London:20250726T170000
DTSTAMP:20260419T210327
CREATED:20250603T095707Z
LAST-MODIFIED:20251014T141604Z
UID:473-1753520400-1753549200@compwall.co.uk
SUMMARY:Rock Solid Bouldering 2025 R3
DESCRIPTION:Join Sunderland Wall for an exciting evening of Bouldering as they host a climbing competition on 26/7/25 at 9:00 AM – open to Youth A \, Youth B\, Youth C\, Youth D and Youth E. \n\n\n    We are not affiliated with the competition or connected to Sunderland Wall in any way\, the information is provided from public information and may be out of date\, please confirm with the venue before travelling.\n\n\nType of Competition\n\n  Climbing Style\n  BoulderingYes\nLead\nSpeed\nParaclimbing\n\n\n\nEntry Level\n\n  \n    Age Group\n    Male\n    Female\n      \n  \n      \n        Veteran\n        \n        \n              \n\n      \n        Adult\n        \n        \n              \n\n      \n        Junior (u21)\n        \n        \n              \n\n      \n        Youth A (u19)\n        Yes\n        Yes\n              \n\n      \n        Youth B (u17)\n        Yes\n        Yes\n              \n\n      \n        Youth C (u15)\n        Yes\n        Yes\n              \n\n      \n        Youth D (u13)\n        Yes\n        Yes\n              \n\n      \n        Youth E (u11)\n        Yes\n        Yes\n              \n\n\nPrices\n\n  Members\n  Non-Members\n  Youth15\n\n\nPrizes\n\n  CategoryPrize\n  Youth A \nYouth B\nYouth C\nYouth D\nYouth E\n\n\n\n\n  Please Note\n  Whilst every attempt has been made to ensure accuracy\, things can change without our pages being updated – we always advise you check with the venue directly for correct information as we cannot guarantee the information here is accurate.
URL:https://compwall.co.uk/event/rock-solid-bouldering-2025-r3/
LOCATION:Sunderland Wall\, Pallion Quay\, Sunderland\,\, North East\, SR4 6TQ\, United Kingdom
CATEGORIES:Bouldering
ATTACH;FMTTYPE=image/webp:https://compwall.co.uk/wp-content/uploads/2025/06/woman-practicing-rock-climbing-on-260nw-1035458215-e1748818226337-YvGc7d.webp
END:VEVENT
BEGIN:VEVENT
DTSTART;TZID=Europe/London:20250726T133000
DTEND;TZID=Europe/London:20250726T200000
DTSTAMP:20260419T210327
CREATED:20250603T011241Z
LAST-MODIFIED:20251014T141539Z
UID:406-1753536600-1753560000@compwall.co.uk
SUMMARY:HAUSPARTY 2025
DESCRIPTION:Join Blochaus Climbing for an exciting evening of Bouldering as they host a climbing competition on 26/7/25 at 1:30 PM – open to Veteran\, Adults\, Youth B\, Youth C\, Youth D and Youth E. \n\n    We are not affiliated with the competition or connected to Blochaus Climbing in any way\, the information is provided from public information and may be out of date\, please confirm with the venue before travelling.\n\nType of Competition\n\n\nClimbing Style\n\n\n\nBouldering\nYes\n\n\nLead\n\n\n\nSpeed\n\n\n\nParaclimbing\n\n\n\nEntry Level\n\n\nAge Group\nMale\nFemale\n\n\nVeteran\nYes\nYes\n\n\nAdult\nYes\nYes\n\n\nJunior (u21)\n\n\n\n\nYouth A (u19)\n\n\n\n\nYouth B (u17)\nYes\nYes\n\n\nYouth C (u15)\nYes\nYes\n\n\nYouth D (u13)\nYes\nYes\n\n\nYouth E (u11)\nYes\nYes\n\n\nPrices\n\n\nMembers\n22.5\n\n\nNon-Members\n25\n\n\nYouth\n\n\n\nPrizes\n\n\nCategory\nPrize\n\n\nVeteran\n\n\n\nAdults\n500\n\n\nYouth B\n100\n\n\nYouth C\n\n\n\nYouth D\n\n\n\nYouth E\n\n\n\n\n  Please Note\n  Whilst every attempt has been made to ensure accuracy\, things can change without our pages being updated – we always advise you check with the venue directly for correct information as we cannot guarantee the information here is accurate.
URL:https://compwall.co.uk/event/hausparty-2025/
LOCATION:BlocHaus Climbing\, Unit 1\, 30-34 Wood Street\, Manchester\, North West\, M11 2FB\, United Kingdom
CATEGORIES:Bouldering
ATTACH;FMTTYPE=image/webp:https://compwall.co.uk/wp-content/uploads/2025/06/woman-practicing-rock-climbing-on-260nw-1035458221-e1748818043766-sFecAP.webp
END:VEVENT
END:VCALENDAR