BEGIN:VCALENDAR
VERSION:2.0
PRODID:-//CompWall.co.uk - ECPv6.15.17.1//NONSGML v1.0//EN
CALSCALE:GREGORIAN
METHOD:PUBLISH
X-WR-CALNAME:CompWall.co.uk
X-ORIGINAL-URL:https://compwall.co.uk
X-WR-CALDESC:Events for CompWall.co.uk
REFRESH-INTERVAL;VALUE=DURATION:PT1H
X-Robots-Tag:noindex
X-PUBLISHED-TTL:PT1H
BEGIN:VTIMEZONE
TZID:Europe/London
BEGIN:DAYLIGHT
TZOFFSETFROM:+0000
TZOFFSETTO:+0100
TZNAME:BST
DTSTART:20240331T010000
END:DAYLIGHT
BEGIN:STANDARD
TZOFFSETFROM:+0100
TZOFFSETTO:+0000
TZNAME:GMT
DTSTART:20241027T010000
END:STANDARD
BEGIN:DAYLIGHT
TZOFFSETFROM:+0000
TZOFFSETTO:+0100
TZNAME:BST
DTSTART:20250330T010000
END:DAYLIGHT
BEGIN:STANDARD
TZOFFSETFROM:+0100
TZOFFSETTO:+0000
TZNAME:GMT
DTSTART:20251026T010000
END:STANDARD
BEGIN:DAYLIGHT
TZOFFSETFROM:+0000
TZOFFSETTO:+0100
TZNAME:BST
DTSTART:20260329T010000
END:DAYLIGHT
BEGIN:STANDARD
TZOFFSETFROM:+0100
TZOFFSETTO:+0000
TZNAME:GMT
DTSTART:20261025T010000
END:STANDARD
END:VTIMEZONE
BEGIN:VEVENT
DTSTART;TZID=Europe/London:20250906T000000
DTEND;TZID=Europe/London:20250906T000000
DTSTAMP:20260419T184706
CREATED:20250603T095654Z
LAST-MODIFIED:20251014T141548Z
UID:468-1757116800-1757116800@compwall.co.uk
SUMMARY:Summer Lead & Rope Aggregate Final
DESCRIPTION:Join Big Rock Hub for an exciting evening of lead climbing as they host a climbing competition on 6/9/25 at  – open to Veteran\, Adults and Youth C. \n\n\n    We are not affiliated with the competition or connected to Big Rock Hub in any way\, the information is provided from public information and may be out of date\, please confirm with the venue before travelling.\n\n\nType of Competition\n\n  Climbing Style\n  Bouldering\nLeadYes\nSpeed\nParaclimbing\n\n\n\nEntry Level\n\n  \n    Age Group\n    Male\n    Female\n      \n  \n      \n        Veteran\n        Yes\n        Yes\n              \n\n      \n        Adult\n        Yes\n        Yes\n              \n\n      \n        Junior (u21)\n        \n        \n              \n\n      \n        Youth A (u19)\n        \n        \n              \n\n      \n        Youth B (u17)\n        \n        \n              \n\n      \n        Youth C (u15)\n        Yes\n        Yes\n              \n\n      \n        Youth D (u13)\n        \n        \n              \n\n      \n        Youth E (u11)\n        \n        \n              \n\n\nPrices\n\n  Members5\n  Non-Members5\n  Youth5\n\n\nPrizes\n\n  CategoryPrize\n  Veteran\nAdults\nYouth C\n\n\n\n\n  Please Note\n  Whilst every attempt has been made to ensure accuracy\, things can change without our pages being updated – we always advise you check with the venue directly for correct information as we cannot guarantee the information here is accurate.
URL:https://compwall.co.uk/event/summer-lead-rope-aggregate-final/
LOCATION:BIG ROCK HUB\, Mandeville Drive\, Milton Keynes\, South East\, MK10 0AG\, United Kingdom
CATEGORIES:Lead
ATTACH;FMTTYPE=image/webp:https://compwall.co.uk/wp-content/uploads/2025/06/sporty-strong-young-man-tanned-260nw-1240186096-e1748818247818-msp4lF.webp
END:VEVENT
END:VCALENDAR