BEGIN:VCALENDAR
VERSION:2.0
PRODID:-//CompWall.co.uk - ECPv6.15.17.1//NONSGML v1.0//EN
CALSCALE:GREGORIAN
METHOD:PUBLISH
X-ORIGINAL-URL:https://compwall.co.uk
X-WR-CALDESC:Events for CompWall.co.uk
REFRESH-INTERVAL;VALUE=DURATION:PT1H
X-Robots-Tag:noindex
X-PUBLISHED-TTL:PT1H
BEGIN:VTIMEZONE
TZID:Europe/London
BEGIN:DAYLIGHT
TZOFFSETFROM:+0000
TZOFFSETTO:+0100
TZNAME:BST
DTSTART:20240331T010000
END:DAYLIGHT
BEGIN:STANDARD
TZOFFSETFROM:+0100
TZOFFSETTO:+0000
TZNAME:GMT
DTSTART:20241027T010000
END:STANDARD
BEGIN:DAYLIGHT
TZOFFSETFROM:+0000
TZOFFSETTO:+0100
TZNAME:BST
DTSTART:20250330T010000
END:DAYLIGHT
BEGIN:STANDARD
TZOFFSETFROM:+0100
TZOFFSETTO:+0000
TZNAME:GMT
DTSTART:20251026T010000
END:STANDARD
BEGIN:DAYLIGHT
TZOFFSETFROM:+0000
TZOFFSETTO:+0100
TZNAME:BST
DTSTART:20260329T010000
END:DAYLIGHT
BEGIN:STANDARD
TZOFFSETFROM:+0100
TZOFFSETTO:+0000
TZNAME:GMT
DTSTART:20261025T010000
END:STANDARD
END:VTIMEZONE
BEGIN:VEVENT
DTSTART;TZID=Europe/London:20250803T000000
DTEND;TZID=Europe/London:20250803T000000
DTSTAMP:20260419T195641
CREATED:20250603T170202Z
LAST-MODIFIED:20251014T141607Z
UID:531-1754179200-1754179200@compwall.co.uk
SUMMARY:Youth Plywood Masters
DESCRIPTION:Join Boulder Uk for an exciting evening of Bouldering as they host a climbing competition on 3/8/25 at  – open to Youth A  and Youth C. \n\n    We are not affiliated with the competition or connected to Boulder Uk in any way\, the information is provided from public information and may be out of date\, please confirm with the venue before travelling.\n\nType of Competition\n\n\nClimbing Style\n\n\n\nBouldering\nYes\n\n\nLead\n\n\n\nSpeed\n\n\n\nParaclimbing\n\n\n\nEntry Level\n\n\nAge Group\nMale\nFemale\n\n\nVeteran\n\n\n\n\nAdult\n\n\n\n\nJunior (u21)\n\n\n\n\nYouth A (u19)\nYes\nYes\n\n\nYouth B (u17)\n\n\n\n\nYouth C (u15)\nYes\nYes\n\n\nYouth D (u13)\n\n\n\n\nYouth E (u11)\n\n\n\n\nPrices\n\n\nMembers\nTBA\n\n\nNon-Members\nTBA\n\n\nYouth\nTBA\n\n\nPrizes\n\n\nCategory\nPrize\n\n\nYouth A \n\n\n\nYouth C\n\n\n\n\n  Please Note\n  Whilst every attempt has been made to ensure accuracy\, things can change without our pages being updated – we always advise you check with the venue directly for correct information as we cannot guarantee the information here is accurate.
URL:https://compwall.co.uk/event/youth-plywood-masters-4/
LOCATION:Boulder UK\, Unit 3B\, Carnfield Place\, Walton Summit\, Preston\, North West\, PR5 8AN\, United Kingdom
CATEGORIES:Bouldering
ATTACH;FMTTYPE=image/webp:https://compwall.co.uk/wp-content/uploads/2025/06/woman-practicing-rock-climbing-on-260nw-1035458215-e1748818226337-YvGc7d.webp
END:VEVENT
BEGIN:VEVENT
DTSTART;TZID=Europe/London:20250809T090000
DTEND;TZID=Europe/London:20250809T170000
DTSTAMP:20260419T195641
CREATED:20250603T095709Z
LAST-MODIFIED:20251014T141605Z
UID:474-1754730000-1754758800@compwall.co.uk
SUMMARY:Rock Solid Bouldering 2025 R4
DESCRIPTION:Join Durham Climbing Centre for an exciting evening of Bouldering as they host a climbing competition on 9/8/25 at 9:00 AM – open to Youth A \, Youth B\, Youth C\, Youth D and Youth E. \n\n    We are not affiliated with the competition or connected to Durham Climbing Centre in any way\, the information is provided from public information and may be out of date\, please confirm with the venue before travelling.\n\nType of Competition\n\n\nClimbing Style\n\n\n\nBouldering\nYes\n\n\nLead\n\n\n\nSpeed\n\n\n\nParaclimbing\n\n\n\nEntry Level\n\n\nAge Group\nMale\nFemale\n\n\nVeteran\n\n\n\n\nAdult\n\n\n\n\nJunior (u21)\n\n\n\n\nYouth A (u19)\nYes\nYes\n\n\nYouth B (u17)\nYes\nYes\n\n\nYouth C (u15)\nYes\nYes\n\n\nYouth D (u13)\nYes\nYes\n\n\nYouth E (u11)\nYes\nYes\n\n\nPrices\n\n\nMembers\n\n\n\nNon-Members\n\n\n\nYouth\n15\n\n\nPrizes\n\n\nCategory\nPrize\n\n\nYouth A \n\n\n\nYouth B\n\n\n\nYouth C\n\n\n\nYouth D\n\n\n\nYouth E\n\n\n\n\n  Please Note\n  Whilst every attempt has been made to ensure accuracy\, things can change without our pages being updated – we always advise you check with the venue directly for correct information as we cannot guarantee the information here is accurate.
URL:https://compwall.co.uk/event/rock-solid-bouldering-2025-r4/
LOCATION:Durham Climbing Centre\, Meadowfield Industrial Estate\, Durham\, North East\, DH7 8TZ\, United Kingdom
CATEGORIES:Bouldering
ATTACH;FMTTYPE=image/webp:https://compwall.co.uk/wp-content/uploads/2025/06/young-man-climbing-on-rockclimbing-260nw-2345006605-e1748818198254-MqLKgz.webp
END:VEVENT
BEGIN:VEVENT
DTSTART;TZID=Europe/London:20250822T084500
DTEND;TZID=Europe/London:20250822T170000
DTSTAMP:20260419T195641
CREATED:20250604T153100Z
LAST-MODIFIED:20251014T141635Z
UID:599-1755852300-1755882000@compwall.co.uk
SUMMARY:London Youth Climbing Championships
DESCRIPTION:Join The Font Wandsworth for an exciting evening of Bouldering as they host a climbing competition on 22/8/25 at 8:45 AM – open to Youth A \, Youth B\, Youth C\, Youth D and Youth E. \n\n    We are not affiliated with the competition or connected to The Font Wandsworth in any way\, the information is provided from public information and may be out of date\, please confirm with the venue before travelling.\n\nType of Competition\n\n\nClimbing Style\n\n\n\nBouldering\nYes\n\n\nLead\n\n\n\nSpeed\n\n\n\nParaclimbing\n\n\n\nEntry Level\n\n\nAge Group\nMale\nFemale\n\n\nVeteran\n\n\n\n\nAdult\n\n\n\n\nJunior (u21)\n\n\n\n\nYouth A (u19)\nYes\nYes\n\n\nYouth B (u17)\nYes\nYes\n\n\nYouth C (u15)\nYes\nYes\n\n\nYouth D (u13)\nYes\nYes\n\n\nYouth E (u11)\nYes\nYes\n\n\nPrices\n\n\nMembers\n\n\n\nNon-Members\n\n\n\nYouth\n25\n\n\nPrizes\n\n\nCategory\nPrize\n\n\nYouth A \n\n\n\nYouth B\n\n\n\nYouth C\n\n\n\nYouth D\n\n\n\nYouth E\n\n\n\n\n  Please Note\n  Whilst every attempt has been made to ensure accuracy\, things can change without our pages being updated – we always advise you check with the venue directly for correct information as we cannot guarantee the information here is accurate.
URL:https://compwall.co.uk/event/london-youth-climbing-championships/
LOCATION:The Font Wandsworth\, 30 Lydden Rd Earlsfied\, London\, London\, SW18 4LR\, United Kingdom
CATEGORIES:Bouldering
ATTACH;FMTTYPE=image/jpeg:https://compwall.co.uk/wp-content/uploads/2025/06/Boulder_Worldcup_Vienna_29-05-2010b_final10_Chloe_Graftiaux.jpg
END:VEVENT
END:VCALENDAR