BEGIN:VCALENDAR
VERSION:2.0
PRODID:-//CompWall.co.uk - ECPv6.15.17.1//NONSGML v1.0//EN
CALSCALE:GREGORIAN
METHOD:PUBLISH
X-ORIGINAL-URL:https://compwall.co.uk
X-WR-CALDESC:Events for CompWall.co.uk
REFRESH-INTERVAL;VALUE=DURATION:PT1H
X-Robots-Tag:noindex
X-PUBLISHED-TTL:PT1H
BEGIN:VTIMEZONE
TZID:Europe/London
BEGIN:DAYLIGHT
TZOFFSETFROM:+0000
TZOFFSETTO:+0100
TZNAME:BST
DTSTART:20240331T010000
END:DAYLIGHT
BEGIN:STANDARD
TZOFFSETFROM:+0100
TZOFFSETTO:+0000
TZNAME:GMT
DTSTART:20241027T010000
END:STANDARD
BEGIN:DAYLIGHT
TZOFFSETFROM:+0000
TZOFFSETTO:+0100
TZNAME:BST
DTSTART:20250330T010000
END:DAYLIGHT
BEGIN:STANDARD
TZOFFSETFROM:+0100
TZOFFSETTO:+0000
TZNAME:GMT
DTSTART:20251026T010000
END:STANDARD
BEGIN:DAYLIGHT
TZOFFSETFROM:+0000
TZOFFSETTO:+0100
TZNAME:BST
DTSTART:20260329T010000
END:DAYLIGHT
BEGIN:STANDARD
TZOFFSETFROM:+0100
TZOFFSETTO:+0000
TZNAME:GMT
DTSTART:20261025T010000
END:STANDARD
END:VTIMEZONE
BEGIN:VEVENT
DTSTART;TZID=Europe/London:20251115T090000
DTEND;TZID=Europe/London:20251115T150000
DTSTAMP:20260419T140950
CREATED:20251104T162811Z
LAST-MODIFIED:20251113T230020Z
UID:1221-1763197200-1763218800@compwall.co.uk
SUMMARY:Interschool Competition Yr 3-6
DESCRIPTION:🏛️ Venue\nRock and Rapid Adventures\n\n\n✨ Name\nInterschool Competition Yr 3-6\n\n\n🏆 Type of Competition\nLead\n\n\n👥 Entry Categories\nYear 3-4\, Year 5-6\n\n\n💰 Price\n10\n\n\n📝 Notes\nTo enter please contact the centre\n\n\n🔗 Event Page\nLink to Info.\n\n\n⚠️ Disclaimer: This listing is based on publicly available data. Please verify with Rock and Rapid Adventures before attending.
URL:https://compwall.co.uk/event/interschool-competition-yr-3-6/
LOCATION:Rock and Rapid Adventures\, Hacche Mill\, South Molton\, South West\, EX36 3NA\, United Kingdom
CATEGORIES:Lead
ATTACH;FMTTYPE=image/jpeg:https://compwall.co.uk/wp-content/uploads/rope-woman-play-adventure-recreation-climbing-928484-pxhere.com_-scaled-9MzcRi-1.jpg
END:VEVENT
END:VCALENDAR