BEGIN:VCALENDAR
VERSION:2.0
PRODID:-//CompWall.co.uk - ECPv6.15.17.1//NONSGML v1.0//EN
CALSCALE:GREGORIAN
METHOD:PUBLISH
X-ORIGINAL-URL:https://compwall.co.uk
X-WR-CALDESC:Events for CompWall.co.uk
REFRESH-INTERVAL;VALUE=DURATION:PT1H
X-Robots-Tag:noindex
X-PUBLISHED-TTL:PT1H
BEGIN:VTIMEZONE
TZID:Europe/London
BEGIN:DAYLIGHT
TZOFFSETFROM:+0000
TZOFFSETTO:+0100
TZNAME:BST
DTSTART:20240331T010000
END:DAYLIGHT
BEGIN:STANDARD
TZOFFSETFROM:+0100
TZOFFSETTO:+0000
TZNAME:GMT
DTSTART:20241027T010000
END:STANDARD
BEGIN:DAYLIGHT
TZOFFSETFROM:+0000
TZOFFSETTO:+0100
TZNAME:BST
DTSTART:20250330T010000
END:DAYLIGHT
BEGIN:STANDARD
TZOFFSETFROM:+0100
TZOFFSETTO:+0000
TZNAME:GMT
DTSTART:20251026T010000
END:STANDARD
BEGIN:DAYLIGHT
TZOFFSETFROM:+0000
TZOFFSETTO:+0100
TZNAME:BST
DTSTART:20260329T010000
END:DAYLIGHT
BEGIN:STANDARD
TZOFFSETFROM:+0100
TZOFFSETTO:+0000
TZNAME:GMT
DTSTART:20261025T010000
END:STANDARD
END:VTIMEZONE
BEGIN:VEVENT
DTSTART;TZID=Europe/London:20251203T174500
DTEND;TZID=Europe/London:20251203T204500
DTSTAMP:20260421T175157
CREATED:20251125T234536Z
LAST-MODIFIED:20251125T234536Z
UID:1388-1764783900-1764794700@compwall.co.uk
SUMMARY:Winter West Fest 2025
DESCRIPTION:🏛️ Venue\nWestway Climbing\n\n\n✨ Name\nWinter West Fest 2025\n\n\n🏆 Type of Competition\nLead\n\n\n👥 Entry Categories\nAdults\n\n\n🔗 Event Page\nLink to Info.\n\n\n⚠️ Disclaimer: This listing is based on publicly available data. Please verify with Westway Climbing before attending.
URL:https://compwall.co.uk/event/winter-west-fest-2025/
LOCATION:Westway Climbing\, 1 Crowthorne Road\, London\, London\, W10 6RP\, United Kingdom
CATEGORIES:Lead
ATTACH;FMTTYPE=image/jpeg:https://compwall.co.uk/wp-content/uploads/pexels-allan-mas-5383757-scaled-wGtRrt-1.jpg
END:VEVENT
BEGIN:VEVENT
DTSTART;TZID=Europe/London:20251204T090000
DTEND;TZID=Europe/London:20251204T210000
DTSTAMP:20260421T175157
CREATED:20251104T162820Z
LAST-MODIFIED:20251125T234537Z
UID:1227-1764838800-1764882000@compwall.co.uk
SUMMARY:Winter Boulder League R2 (25/11-4/12)
DESCRIPTION:🏛️ Venue\nLlangorse Multi Activity Centre\n\n\n✨ Name\nWinter Boulder League R2 (25/11-4/12) \n\n\n🏆 Type of Competition\nBoulder\n\n\n👥 Entry Categories\nAdult\, U16\, U12\, Non-Binary\n\n\n📝 Notes\nEach round runs for 10 days with 30 problems across the grades – so plenty of time to get stuff done\, and as many sessions as you can squeeze in.\n✨ Your best 3 rounds count – so no stress if you can’t make one\, or have a shocker 🫣 \n🎟️ Raffle prizes every round – hand in your scorecard to enter! \n\n\n\n🔗 Event Page\nLink to Info.\n\n\n⚠️ Disclaimer: This listing is based on publicly available data. Please verify with Llangorse Multi Activity Centre before attending.
URL:https://compwall.co.uk/event/winter-boulder-league-r2-25-11-4-12/
LOCATION:Llangorse Multi Activity Centre\, The Gilfach Llangorse\, Brecon\, Wales\, LD3 7UH\, United Kingdom
CATEGORIES:Boulder
ATTACH;FMTTYPE=image/jpeg:https://compwall.co.uk/wp-content/uploads/pexels-pavel-danilyuk-7590938-scaled-xV37SF-1.jpg
END:VEVENT
BEGIN:VEVENT
DTSTART;TZID=Europe/London:20251206T090000
DTEND;TZID=Europe/London:20251206T150000
DTSTAMP:20260421T175157
CREATED:20251113T225314Z
LAST-MODIFIED:20251125T234538Z
UID:1335-1765011600-1765033200@compwall.co.uk
SUMMARY:British Speed Series Rd3
DESCRIPTION:🏛️ Venue\nEICA Ratho\n\n\n✨ Name\nBritish Speed Series Rd3\n\n\n🏆 Type of Competition\nSpeed\n\n\n👥 Entry Categories\nAdult\, Junior\n\n\n📝 Notes\nYou must be a member of Mountaineering Scotland\, the British Mountaineering Council or Mountaineering Ireland to compete.\n\n\n🔗 Event Page\nLink to Info.\n\n\n⚠️ Disclaimer: This listing is based on publicly available data. Please verify with EICA Ratho before attending.
URL:https://compwall.co.uk/event/british-speed-series-rd3/
LOCATION:EICA Ratho\, South Platt Hill\, Edinburgh\, Scotland\, EH28 8AA\, United Kingdom
CATEGORIES:Speed
ATTACH;FMTTYPE=image/webp:https://compwall.co.uk/wp-content/uploads/2025/06/IMG_1873-1024x683-1.webp
END:VEVENT
BEGIN:VEVENT
DTSTART;TZID=Europe/London:20251211T180000
DTEND;TZID=Europe/London:20251211T200000
DTSTAMP:20260421T175157
CREATED:20251014T141749Z
LAST-MODIFIED:20251125T234539Z
UID:1047-1765476000-1765483200@compwall.co.uk
SUMMARY:Winter Boulder League R2
DESCRIPTION:⚠️ Non-Affiliated EventWe are not connected with the organiser — details may change\, please confirm with the venue.\n\n\n🏆 Type of Competition\nBouldering\n\n\n👥 Entry Categories\nAdults\n\n\n🎁 Prizes\nFALSE\n\n\n📝 Notes\nFALSE\n\n\n🔗 Event Page\nView Event Page\n\n\n⚠️ Disclaimer: This listing is based on publicly available data. Please verify with Flashpoint Cardiff before attending.
URL:https://compwall.co.uk/event/winter-boulder-league-r2-3/
LOCATION:Flashpoint Cardiff\, Unit D & E Freemans Parc 236 Penarth road\, Cardiff\, Wales\, CF118EQ\, United Kingdom
CATEGORIES:Bouldering
ATTACH;FMTTYPE=image/jpeg:https://compwall.co.uk/wp-content/uploads/2025/06/6762103073_8f51b7ca9c_b.jpg
END:VEVENT
BEGIN:VEVENT
DTSTART;TZID=Europe/London:20251214T000000
DTEND;TZID=Europe/London:20251214T000000
DTSTAMP:20260421T175157
CREATED:20251113T225330Z
LAST-MODIFIED:20251125T234540Z
UID:1336-1765670400-1765670400@compwall.co.uk
SUMMARY:Winter Bouldering League R1 17/11-14/12)
DESCRIPTION:🏛️ Venue\nBoulder UK\n\n\n✨ Name\nWinter Bouldering League R1 17/11-14/12)\n\n\n🏆 Type of Competition\nBoulder\n\n\n👥 Entry Categories\nAdults\n\n\n📝 Notes\nThe league is 𝗙𝗥𝗘𝗘 𝘁𝗼 𝗲𝗻𝘁𝗲𝗿 with your normal wall entry\, and there’ll be 𝘁𝗼𝗽 𝗽𝗿𝗶𝘇𝗲𝘀 up for grabs from our brilliant sponsors. 👀\n𝗛𝗲𝗿𝗲’𝘀 𝗵𝗼𝘄 𝗶𝘁 𝘄𝗼𝗿𝗸𝘀:\n• 𝟰 𝗿𝗼𝘂𝗻𝗱𝘀 + 𝗚𝗿𝗮𝗻𝗱 𝗙𝗶𝗻𝗮𝗹 in February 2026\n• 𝟮𝟬 𝗯𝗹𝗼𝗰𝘀 𝗽𝗲𝗿 𝗿𝗼𝘂𝗻𝗱\, each open for 3–4 weeks\n• 𝟭𝟬𝟬𝟬 𝗽𝗼𝗶𝗻𝘁𝘀 𝗽𝗲𝗿 𝗯𝗹𝗼𝗰\, split between everyone who tops it\n• 𝗦𝗰𝗼𝗿𝗶𝗻𝗴 𝘃𝗶𝗮 @griptonite 🤓\n• 𝗖𝗹𝗶𝗺𝗯𝗲𝗿𝘀 𝗰𝗼𝗺𝗽𝗹𝗲𝘁𝗶𝗻𝗴 𝗮𝗹𝗹 𝟰 𝗿𝗼𝘂𝗻𝗱𝘀 will automatically be entered into a prize draw for some awesome gear 🎁 \n𝗗𝗮𝘁𝗲𝘀:\n🧊 Round 1 — 17 Nov 25 → 14 Dec 25\n🧊 Round 2 — 15 Dec 25 → 11 Jan 26\n🧊 Round 3 — 12 Jan 26 → 11 Feb 26\n🧊 Round 4 + Grand Final — 14 Feb 26\n\n\n\n🔗 Event Page\nLink to Info.\n\n\n⚠️ Disclaimer: This listing is based on publicly available data. Please verify with Boulder UK before attending.
URL:https://compwall.co.uk/event/winter-bouldering-league-r1-17-11-14-12/
LOCATION:Boulder UK\, Unit 3B\, Carnfield Place\, Walton Summit\, Preston\, North West\, PR5 8AN\, United Kingdom
CATEGORIES:Boulder
ATTACH;FMTTYPE=image/jpeg:https://compwall.co.uk/wp-content/uploads/2025/06/3252323206_78e892b9f9_b.jpg
END:VEVENT
BEGIN:VEVENT
DTSTART;TZID=Europe/London:20251216T000000
DTEND;TZID=Europe/London:20251216T000000
DTSTAMP:20260421T175157
CREATED:20251107T203738Z
LAST-MODIFIED:20251125T234552Z
UID:1310-1765843200-1765843200@compwall.co.uk
SUMMARY:Mint Conditions Rd2 (9/12 - 16/12)
DESCRIPTION:🏛️ Venue\nAwesome Walls Stoke\n\n\n✨ Name\nMint Conditions Rd2 (9/12 – 16/12)\n\n\n🏆 Type of Competition\nBoulder\n\n\n👥 Entry Categories\nAdults\n\n\n📝 Notes\n20 problems\, graded v1 – v8 – everyone has 1 full week to complete as many problems as they can.\nScoring as usual is done using the @9riptonite app\n\n\n🔗 Event Page\nLink to Info.\n\n\n⚠️ Disclaimer: This listing is based on publicly available data. Please verify with Awesome Walls Stoke before attending.
URL:https://compwall.co.uk/event/mint-conditions-rd2-9-12-16-12/
LOCATION:Awesome Walls Stoke\, Sefton Road\, Longton\, Stoke-on-Trent\, West Midlands\, ST3 5LW\, United Kingdom
CATEGORIES:Boulder
ATTACH;FMTTYPE=image/webp:https://compwall.co.uk/wp-content/uploads/2025/06/woman-practicing-rock-climbing-on-260nw-1035458215-e1748818226337-YvGc7d.webp
END:VEVENT
BEGIN:VEVENT
DTSTART;TZID=Europe/London:20251220T000000
DTEND;TZID=Europe/London:20251220T000000
DTSTAMP:20260421T175157
CREATED:20251106T124247Z
LAST-MODIFIED:20251125T234553Z
UID:1273-1766188800-1766188800@compwall.co.uk
SUMMARY:SufferFest 2025
DESCRIPTION:🏛️ Venue\nRhino Boulder Bromley\n\n\n✨ Name\nSufferFest 2025\n\n\n🏆 Type of Competition\nBoulder\n\n\n👥 Entry Categories\nAdult\n\n\n💰 Price\n£15-£25\n\n\n📝 Notes\n🥤 A free drink of your choice (hot\, cold\, alcoholic or non-alcoholic)\nPlus — all ticket holders get a FREE limited edition SufferFest t-shirt! 👕 \n🎟️ Ticket Prices:\nEarly Bird —\n• Members: £15\n• Non-members: £20 (Full price: £25) \nFull Price —\n• Members: £20\n• Non-members: £25\n\n\n🔗 Event Page\nLink to Info.\n\n\n⚠️ Disclaimer: This listing is based on publicly available data. Please verify with Rhino Boulder Bromley before attending.
URL:https://compwall.co.uk/event/sufferfest-2025/
LOCATION:Rhino Boulder Bromley\, Unit 6/7 The Mall\, Bromley\, London\, BR11TR\, United Kingdom
CATEGORIES:Boulder
ATTACH;FMTTYPE=image/jpeg:https://compwall.co.uk/wp-content/uploads/pexels-vladvictoria-26100395-scaled-Ml9sU5-1.jpg
END:VEVENT
BEGIN:VEVENT
DTSTART;TZID=Europe/London:20251227T180000
DTEND;TZID=Europe/London:20251227T210000
DTSTAMP:20260421T175157
CREATED:20251113T225333Z
LAST-MODIFIED:20251125T234554Z
UID:1338-1766858400-1766869200@compwall.co.uk
SUMMARY:The Flash League R2
DESCRIPTION:🏛️ Venue\nHighball Climbing Centre\n\n\n✨ Name\nThe Flash League R2\n\n\n🏆 Type of Competition\nBoulder\n\n\n👥 Entry Categories\nAdults\n\n\n💰 Price\n5\n\n\n📝 Notes\nThe Flash League will consist of 4 rounds and 1 big finals event for the top 6 female and top 6 male climbers⚡️\n\n\n🔗 Event Page\nLink to Info.\n\n\n⚠️ Disclaimer: This listing is based on publicly available data. Please verify with Highball Climbing Centre before attending.
URL:https://compwall.co.uk/event/the-flash-league-r2/
LOCATION:Highball Climbing Centre\, 5 Whiffler Road\, Norwich\, East of England\, NR3 2AG\, United Kingdom
CATEGORIES:Boulder
ATTACH;FMTTYPE=image/jpeg:https://compwall.co.uk/wp-content/uploads/pexels-nikita-grishin-128711293-16114766-scaled-U19KpP-1.jpg
END:VEVENT
END:VCALENDAR