BEGIN:VCALENDAR
VERSION:2.0
PRODID:-//CompWall.co.uk - ECPv6.15.17.1//NONSGML v1.0//EN
CALSCALE:GREGORIAN
METHOD:PUBLISH
X-WR-CALNAME:CompWall.co.uk
X-ORIGINAL-URL:https://compwall.co.uk
X-WR-CALDESC:Events for CompWall.co.uk
REFRESH-INTERVAL;VALUE=DURATION:PT1H
X-Robots-Tag:noindex
X-PUBLISHED-TTL:PT1H
BEGIN:VTIMEZONE
TZID:Europe/London
BEGIN:DAYLIGHT
TZOFFSETFROM:+0000
TZOFFSETTO:+0100
TZNAME:BST
DTSTART:20240331T010000
END:DAYLIGHT
BEGIN:STANDARD
TZOFFSETFROM:+0100
TZOFFSETTO:+0000
TZNAME:GMT
DTSTART:20241027T010000
END:STANDARD
BEGIN:DAYLIGHT
TZOFFSETFROM:+0000
TZOFFSETTO:+0100
TZNAME:BST
DTSTART:20250330T010000
END:DAYLIGHT
BEGIN:STANDARD
TZOFFSETFROM:+0100
TZOFFSETTO:+0000
TZNAME:GMT
DTSTART:20251026T010000
END:STANDARD
BEGIN:DAYLIGHT
TZOFFSETFROM:+0000
TZOFFSETTO:+0100
TZNAME:BST
DTSTART:20260329T010000
END:DAYLIGHT
BEGIN:STANDARD
TZOFFSETFROM:+0100
TZOFFSETTO:+0000
TZNAME:GMT
DTSTART:20261025T010000
END:STANDARD
END:VTIMEZONE
BEGIN:VEVENT
DTSTART;TZID=Europe/London:20250621T040000
DTEND;TZID=Europe/London:20250622T035959
DTSTAMP:20260423T093811
CREATED:20251014T141545Z
LAST-MODIFIED:20251014T141545Z
UID:1027-1750478400-1750564799@compwall.co.uk
SUMMARY:Scottish Youth Climbing Championships
DESCRIPTION:Join Eica Ratho for an exciting evening of lead climbing as they host a climbing competition on 21/6/25 at 8:00 AM – open to Junior \, Youth A \, Youth B\, Youth C\, Youth D and Youth E. \n\n    We are not affiliated with the competition or connected to Eica Ratho in any way\, the information is provided from public information and may be out of date\, please confirm with the venue before travelling.\n\nType of Competition\n\n\nClimbing Style\n\n\n\nBouldering\n\n\n\nLead\nYes\n\n\nSpeed\n\n\n\nParaclimbing\n\n\n\nEntry Level\n\n\nAge Group\nMale\nFemale\n\n\nVeteran\n\n\n\n\nAdult\n\n\n\n\nJunior (u21)\nYes\nYes\n\n\nYouth A (u19)\nYes\nYes\n\n\nYouth B (u17)\nYes\nYes\n\n\nYouth C (u15)\nYes\nYes\n\n\nYouth D (u13)\nYes\nYes\n\n\nYouth E (u11)\nYes\nYes\n\n\nPrices\n\n\nMembers\n\n\n\nNon-Members\n\n\n\nYouth\n40\n\n\nPrizes\n\n\nCategory\nPrize\n\n\nJunior \nNational Champion\n\n\nYouth A \nNational Champion\n\n\nYouth B\nNational Champion\n\n\nYouth C\nNational Champion\n\n\nYouth D\nNational Champion\n\n\nYouth E\nNational Champion\n\n\n\n  Please Note\n  Whilst every attempt has been made to ensure accuracy\, things can change without our pages being updated – we always advise you check with the venue directly for correct information as we cannot guarantee the information here is accurate.
URL:https://compwall.co.uk/event/scottish-youth-climbing-championships-9/
LOCATION:EICA Ratho\, South Platt Hill\, Edinburgh\, Scotland\, EH28 8AA\, United Kingdom
CATEGORIES:Lead
ATTACH;FMTTYPE=image/webp:https://compwall.co.uk/wp-content/uploads/2025/06/athletic-woman-climbing-indoors-view-260nw-387899734-e1748818328140-drFEix.webp
END:VEVENT
BEGIN:VEVENT
DTSTART;TZID=Europe/London:20250621T040000
DTEND;TZID=Europe/London:20250622T035959
DTSTAMP:20260423T093811
CREATED:20251013T133235Z
LAST-MODIFIED:20251013T133235Z
UID:1002-1750478400-1750564799@compwall.co.uk
SUMMARY:Scottish Youth Climbing Championships
DESCRIPTION:Join Eica Ratho for an exciting evening of lead climbing as they host a climbing competition on 21/6/25 at 8:00 AM – open to Junior \, Youth A \, Youth B\, Youth C\, Youth D and Youth E. \n\n    We are not affiliated with the competition or connected to Eica Ratho in any way\, the information is provided from public information and may be out of date\, please confirm with the venue before travelling.\n\nType of Competition\n\n\nClimbing Style\n\n\n\nBouldering\n\n\n\nLead\nYes\n\n\nSpeed\n\n\n\nParaclimbing\n\n\n\nEntry Level\n\n\nAge Group\nMale\nFemale\n\n\nVeteran\n\n\n\n\nAdult\n\n\n\n\nJunior (u21)\nYes\nYes\n\n\nYouth A (u19)\nYes\nYes\n\n\nYouth B (u17)\nYes\nYes\n\n\nYouth C (u15)\nYes\nYes\n\n\nYouth D (u13)\nYes\nYes\n\n\nYouth E (u11)\nYes\nYes\n\n\nPrices\n\n\nMembers\n\n\n\nNon-Members\n\n\n\nYouth\n40\n\n\nPrizes\n\n\nCategory\nPrize\n\n\nJunior \nNational Champion\n\n\nYouth A \nNational Champion\n\n\nYouth B\nNational Champion\n\n\nYouth C\nNational Champion\n\n\nYouth D\nNational Champion\n\n\nYouth E\nNational Champion\n\n\n\n  Please Note\n  Whilst every attempt has been made to ensure accuracy\, things can change without our pages being updated – we always advise you check with the venue directly for correct information as we cannot guarantee the information here is accurate.
URL:https://compwall.co.uk/event/scottish-youth-climbing-championships-8/
LOCATION:EICA Ratho\, South Platt Hill\, Edinburgh\, Scotland\, EH28 8AA\, United Kingdom
CATEGORIES:Lead
ATTACH;FMTTYPE=image/webp:https://compwall.co.uk/wp-content/uploads/2025/06/athletic-woman-climbing-indoors-view-260nw-387899734-e1748818328140-drFEix.webp
END:VEVENT
BEGIN:VEVENT
DTSTART;TZID=Europe/London:20250621T040000
DTEND;TZID=Europe/London:20250622T035959
DTSTAMP:20260423T093811
CREATED:20251010T202111Z
LAST-MODIFIED:20251010T202111Z
UID:971-1750478400-1750564799@compwall.co.uk
SUMMARY:Scottish Youth Climbing Championships
DESCRIPTION:Join Eica Ratho for an exciting evening of lead climbing as they host a climbing competition on 21/6/25 at 8:00 AM – open to Junior \, Youth A \, Youth B\, Youth C\, Youth D and Youth E. \n\n    We are not affiliated with the competition or connected to Eica Ratho in any way\, the information is provided from public information and may be out of date\, please confirm with the venue before travelling.\n\nType of Competition\n\n\nClimbing Style\n\n\n\nBouldering\n\n\n\nLead\nYes\n\n\nSpeed\n\n\n\nParaclimbing\n\n\n\nEntry Level\n\n\nAge Group\nMale\nFemale\n\n\nVeteran\n\n\n\n\nAdult\n\n\n\n\nJunior (u21)\nYes\nYes\n\n\nYouth A (u19)\nYes\nYes\n\n\nYouth B (u17)\nYes\nYes\n\n\nYouth C (u15)\nYes\nYes\n\n\nYouth D (u13)\nYes\nYes\n\n\nYouth E (u11)\nYes\nYes\n\n\nPrices\n\n\nMembers\n\n\n\nNon-Members\n\n\n\nYouth\n40\n\n\nPrizes\n\n\nCategory\nPrize\n\n\nJunior \nNational Champion\n\n\nYouth A \nNational Champion\n\n\nYouth B\nNational Champion\n\n\nYouth C\nNational Champion\n\n\nYouth D\nNational Champion\n\n\nYouth E\nNational Champion\n\n\n\n  Please Note\n  Whilst every attempt has been made to ensure accuracy\, things can change without our pages being updated – we always advise you check with the venue directly for correct information as we cannot guarantee the information here is accurate.
URL:https://compwall.co.uk/event/scottish-youth-climbing-championships-7/
LOCATION:EICA Ratho\, South Platt Hill\, Edinburgh\, Scotland\, EH28 8AA\, United Kingdom
CATEGORIES:Lead
ATTACH;FMTTYPE=image/webp:https://compwall.co.uk/wp-content/uploads/2025/06/athletic-woman-climbing-indoors-view-260nw-387899734-e1748818328140-drFEix.webp
END:VEVENT
BEGIN:VEVENT
DTSTART;TZID=Europe/London:20250621T040000
DTEND;TZID=Europe/London:20250622T035959
DTSTAMP:20260423T093811
CREATED:20250610T191413Z
LAST-MODIFIED:20250610T191413Z
UID:953-1750478400-1750564799@compwall.co.uk
SUMMARY:Scottish Youth Climbing Championships
DESCRIPTION:Join Eica Ratho for an exciting evening of lead climbing as they host a climbing competition on 21/6/25 at 8:00 AM – open to Junior \, Youth A \, Youth B\, Youth C\, Youth D and Youth E. \n\n    We are not affiliated with the competition or connected to Eica Ratho in any way\, the information is provided from public information and may be out of date\, please confirm with the venue before travelling.\n\nType of Competition\n\n\nClimbing Style\n\n\n\nBouldering\n\n\n\nLead\nYes\n\n\nSpeed\n\n\n\nParaclimbing\n\n\n\nEntry Level\n\n\nAge Group\nMale\nFemale\n\n\nVeteran\n\n\n\n\nAdult\n\n\n\n\nJunior (u21)\nYes\nYes\n\n\nYouth A (u19)\nYes\nYes\n\n\nYouth B (u17)\nYes\nYes\n\n\nYouth C (u15)\nYes\nYes\n\n\nYouth D (u13)\nYes\nYes\n\n\nYouth E (u11)\nYes\nYes\n\n\nPrices\n\n\nMembers\n\n\n\nNon-Members\n\n\n\nYouth\n40\n\n\nPrizes\n\n\nCategory\nPrize\n\n\nJunior \nNational Champion\n\n\nYouth A \nNational Champion\n\n\nYouth B\nNational Champion\n\n\nYouth C\nNational Champion\n\n\nYouth D\nNational Champion\n\n\nYouth E\nNational Champion\n\n\n\n  Please Note\n  Whilst every attempt has been made to ensure accuracy\, things can change without our pages being updated – we always advise you check with the venue directly for correct information as we cannot guarantee the information here is accurate.
URL:https://compwall.co.uk/event/scottish-youth-climbing-championships-6/
LOCATION:EICA Ratho\, South Platt Hill\, Edinburgh\, Scotland\, EH28 8AA\, United Kingdom
CATEGORIES:Lead
ATTACH;FMTTYPE=image/webp:https://compwall.co.uk/wp-content/uploads/2025/06/athletic-woman-climbing-indoors-view-260nw-387899734-e1748818328140-drFEix.webp
END:VEVENT
BEGIN:VEVENT
DTSTART;TZID=Europe/London:20250616T040000
DTEND;TZID=Europe/London:20250617T035959
DTSTAMP:20260423T093811
CREATED:20251014T141620Z
LAST-MODIFIED:20251014T141620Z
UID:1029-1750046400-1750132799@compwall.co.uk
SUMMARY:Last Minute League Week 4
DESCRIPTION:Join Hang. for an exciting evening of Bouldering\, paraclimbing as they host a climbing competition on 16/6/25 at  – open to Adults. \n\n    We are not affiliated with the competition or connected to Hang. in any way\, the information is provided from public information and may be out of date\, please confirm with the venue before travelling.\n\nType of Competition\n\n\nClimbing Style\n\n\n\nBouldering\nYes\n\n\nLead\n\n\n\nSpeed\n\n\n\nParaclimbing\nYes\n\n\nEntry Level\n\n\nAge Group\nMale\nFemale\n\n\nVeteran\n\n\n\n\nAdult\nYes\nYes\n\n\nJunior (u21)\n\n\n\n\nYouth A (u19)\n\n\n\n\nYouth B (u17)\n\n\n\n\nYouth C (u15)\n\n\n\n\nYouth D (u13)\n\n\n\n\nYouth E (u11)\n\n\n\n\nPrices\n\n\nMembers\n5\n\n\nNon-Members\n5 + PAYG\n\n\nYouth\n\n\n\nPrizes\n\n\nCategory\nPrize\n\n\nAdults\n\n\n\n\n  Please Note\n  Whilst every attempt has been made to ensure accuracy\, things can change without our pages being updated – we always advise you check with the venue directly for correct information as we cannot guarantee the information here is accurate.
URL:https://compwall.co.uk/event/last-minute-league-week-4-9/
LOCATION:hang.\, 9 Smithy Lane Hounslow\, London\, London\, TW3 1EH\, United Kingdom
CATEGORIES:Bouldering,Paraclimbing
END:VEVENT
BEGIN:VEVENT
DTSTART;TZID=Europe/London:20250616T040000
DTEND;TZID=Europe/London:20250617T035959
DTSTAMP:20260423T093811
CREATED:20251013T133311Z
LAST-MODIFIED:20251013T133311Z
UID:1005-1750046400-1750132799@compwall.co.uk
SUMMARY:Last Minute League Week 4
DESCRIPTION:Join Hang. for an exciting evening of Bouldering\, paraclimbing as they host a climbing competition on 16/6/25 at  – open to Adults. \n\n    We are not affiliated with the competition or connected to Hang. in any way\, the information is provided from public information and may be out of date\, please confirm with the venue before travelling.\n\nType of Competition\n\n\nClimbing Style\n\n\n\nBouldering\nYes\n\n\nLead\n\n\n\nSpeed\n\n\n\nParaclimbing\nYes\n\n\nEntry Level\n\n\nAge Group\nMale\nFemale\n\n\nVeteran\n\n\n\n\nAdult\nYes\nYes\n\n\nJunior (u21)\n\n\n\n\nYouth A (u19)\n\n\n\n\nYouth B (u17)\n\n\n\n\nYouth C (u15)\n\n\n\n\nYouth D (u13)\n\n\n\n\nYouth E (u11)\n\n\n\n\nPrices\n\n\nMembers\n5\n\n\nNon-Members\n5 + PAYG\n\n\nYouth\n\n\n\nPrizes\n\n\nCategory\nPrize\n\n\nAdults\n\n\n\n\n  Please Note\n  Whilst every attempt has been made to ensure accuracy\, things can change without our pages being updated – we always advise you check with the venue directly for correct information as we cannot guarantee the information here is accurate.
URL:https://compwall.co.uk/event/last-minute-league-week-4-8/
LOCATION:hang.\, 9 Smithy Lane Hounslow\, London\, London\, TW3 1EH\, United Kingdom
CATEGORIES:Bouldering,Paraclimbing
END:VEVENT
BEGIN:VEVENT
DTSTART;TZID=Europe/London:20250616T040000
DTEND;TZID=Europe/London:20250617T035959
DTSTAMP:20260423T093811
CREATED:20251010T202145Z
LAST-MODIFIED:20251010T202145Z
UID:974-1750046400-1750132799@compwall.co.uk
SUMMARY:Last Minute League Week 4
DESCRIPTION:Join Hang. for an exciting evening of Bouldering\, paraclimbing as they host a climbing competition on 16/6/25 at  – open to Adults. \n\n    We are not affiliated with the competition or connected to Hang. in any way\, the information is provided from public information and may be out of date\, please confirm with the venue before travelling.\n\nType of Competition\n\n\nClimbing Style\n\n\n\nBouldering\nYes\n\n\nLead\n\n\n\nSpeed\n\n\n\nParaclimbing\nYes\n\n\nEntry Level\n\n\nAge Group\nMale\nFemale\n\n\nVeteran\n\n\n\n\nAdult\nYes\nYes\n\n\nJunior (u21)\n\n\n\n\nYouth A (u19)\n\n\n\n\nYouth B (u17)\n\n\n\n\nYouth C (u15)\n\n\n\n\nYouth D (u13)\n\n\n\n\nYouth E (u11)\n\n\n\n\nPrices\n\n\nMembers\n5\n\n\nNon-Members\n5 + PAYG\n\n\nYouth\n\n\n\nPrizes\n\n\nCategory\nPrize\n\n\nAdults\n\n\n\n\n  Please Note\n  Whilst every attempt has been made to ensure accuracy\, things can change without our pages being updated – we always advise you check with the venue directly for correct information as we cannot guarantee the information here is accurate.
URL:https://compwall.co.uk/event/last-minute-league-week-4-7/
LOCATION:hang.\, 9 Smithy Lane Hounslow\, London\, London\, TW3 1EH\, United Kingdom
CATEGORIES:Bouldering,Paraclimbing
END:VEVENT
BEGIN:VEVENT
DTSTART;TZID=Europe/London:20250616T040000
DTEND;TZID=Europe/London:20250617T035959
DTSTAMP:20260423T093811
CREATED:20250610T191451Z
LAST-MODIFIED:20250610T191451Z
UID:955-1750046400-1750132799@compwall.co.uk
SUMMARY:Last Minute League Week 4
DESCRIPTION:Join Hang. for an exciting evening of Bouldering\, paraclimbing as they host a climbing competition on 16/6/25 at  – open to Adults. \n\n    We are not affiliated with the competition or connected to Hang. in any way\, the information is provided from public information and may be out of date\, please confirm with the venue before travelling.\n\nType of Competition\n\n\nClimbing Style\n\n\n\nBouldering\nYes\n\n\nLead\n\n\n\nSpeed\n\n\n\nParaclimbing\nYes\n\n\nEntry Level\n\n\nAge Group\nMale\nFemale\n\n\nVeteran\n\n\n\n\nAdult\nYes\nYes\n\n\nJunior (u21)\n\n\n\n\nYouth A (u19)\n\n\n\n\nYouth B (u17)\n\n\n\n\nYouth C (u15)\n\n\n\n\nYouth D (u13)\n\n\n\n\nYouth E (u11)\n\n\n\n\nPrices\n\n\nMembers\n5\n\n\nNon-Members\n5 + PAYG\n\n\nYouth\n\n\n\nPrizes\n\n\nCategory\nPrize\n\n\nAdults\n\n\n\n\n  Please Note\n  Whilst every attempt has been made to ensure accuracy\, things can change without our pages being updated – we always advise you check with the venue directly for correct information as we cannot guarantee the information here is accurate.
URL:https://compwall.co.uk/event/last-minute-league-week-4-6/
LOCATION:hang.\, 9 Smithy Lane Hounslow\, London\, London\, TW3 1EH\, United Kingdom
CATEGORIES:Bouldering,Paraclimbing
END:VEVENT
BEGIN:VEVENT
DTSTART;TZID=Europe/London:20250614T120000
DTEND;TZID=Europe/London:20250614T200000
DTSTAMP:20260423T093811
CREATED:20250603T170203Z
LAST-MODIFIED:20251014T141608Z
UID:532-1749902400-1749931200@compwall.co.uk
SUMMARY:FenBloc
DESCRIPTION:Join Fenrock Climbing for an exciting evening of Bouldering as they host a climbing competition on 14/6/25 at 12:00 PM – open to Adults\, Youth A \, Youth B\, Youth C\, Youth D and Youth E. \n\n\n    We are not affiliated with the competition or connected to Fenrock Climbing in any way\, the information is provided from public information and may be out of date\, please confirm with the venue before travelling.\n\n\nType of Competition\n\n  Climbing Style\n  BoulderingYes\nLead\nSpeed\nParaclimbing\n\n\n\nEntry Level\n\n  \n    Age Group\n    Male\n    Female\n      \n  \n      \n        Veteran\n        \n        \n              \n\n      \n        Adult\n        Yes\n        Yes\n              \n\n      \n        Junior (u21)\n        \n        \n              \n\n      \n        Youth A (u19)\n        Yes\n        Yes\n              \n\n      \n        Youth B (u17)\n        Yes\n        Yes\n              \n\n      \n        Youth C (u15)\n        Yes\n        Yes\n              \n\n      \n        Youth D (u13)\n        Yes\n        Yes\n              \n\n      \n        Youth E (u11)\n        Yes\n        Yes\n              \n\n\nPrices\n\n  Members15\n  Non-Members25\n  Youth\n\n\nPrizes\n\n  CategoryPrize\n  AdultsTop 3\nYouth A Top 3\nYouth B\nYouth C\nYouth D\nYouth E\n\n\n\n\n  Please Note\n  Whilst every attempt has been made to ensure accuracy\, things can change without our pages being updated – we always advise you check with the venue directly for correct information as we cannot guarantee the information here is accurate.
URL:https://compwall.co.uk/event/fenbloc-2/
LOCATION:Fenrock Climbing\, Cattle Market Chase\, Wisbech\, East of England\, PE13 1RD\, United Kingdom
CATEGORIES:Bouldering
ATTACH;FMTTYPE=image/jpeg:https://compwall.co.uk/wp-content/uploads/2025/06/man-rock-sport-adventure-wall-male-1187474-pxhere.com_-scaled-G6E6x5.jpg
END:VEVENT
BEGIN:VEVENT
DTSTART;TZID=Europe/London:20250614T091500
DTEND;TZID=Europe/London:20250614T170000
DTSTAMP:20260423T093811
CREATED:20250603T095655Z
LAST-MODIFIED:20251014T141549Z
UID:470-1749892500-1749920400@compwall.co.uk
SUMMARY:Rock Solid Bouldering 2025 R1
DESCRIPTION:Join Eden Rock Newcastle for an exciting evening of Bouldering as they host a climbing competition on 14/6/25 at 9:15 AM – open to Youth A \, Youth B\, Youth C\, Youth D and Youth E. \n\n    We are not affiliated with the competition or connected to Eden Rock Newcastle in any way\, the information is provided from public information and may be out of date\, please confirm with the venue before travelling.\n\nType of Competition\n\n\nClimbing Style\n\n\n\nBouldering\nYes\n\n\nLead\n\n\n\nSpeed\n\n\n\nParaclimbing\n\n\n\nEntry Level\n\n\nAge Group\nMale\nFemale\n\n\nVeteran\n\n\n\n\nAdult\n\n\n\n\nJunior (u21)\n\n\n\n\nYouth A (u19)\nYes\nYes\n\n\nYouth B (u17)\nYes\nYes\n\n\nYouth C (u15)\nYes\nYes\n\n\nYouth D (u13)\nYes\nYes\n\n\nYouth E (u11)\nYes\nYes\n\n\nPrices\n\n\nMembers\n\n\n\nNon-Members\n\n\n\nYouth\n15\n\n\nPrizes\n\n\nCategory\nPrize\n\n\nYouth A \n\n\n\nYouth B\n\n\n\nYouth C\n\n\n\nYouth D\n\n\n\nYouth E\n\n\n\n\n  Please Note\n  Whilst every attempt has been made to ensure accuracy\, things can change without our pages being updated – we always advise you check with the venue directly for correct information as we cannot guarantee the information here is accurate.
URL:https://compwall.co.uk/event/rock-solid-bouldering-2025-r1/
LOCATION:Eden Rock Newcastle\, 4-6 Benfield Studios\, Benfield Business Park\,\, Newcastle upon Tyne\, North East\, NE6 4NQ\, United Kingdom
CATEGORIES:Bouldering
ATTACH;FMTTYPE=image/webp:https://compwall.co.uk/wp-content/uploads/2025/06/young-man-climbing-on-rockclimbing-260nw-2345006605-e1748818198254-MqLKgz.webp
END:VEVENT
BEGIN:VEVENT
DTSTART;TZID=Europe/London:20250609T040000
DTEND;TZID=Europe/London:20250610T035959
DTSTAMP:20260423T093811
CREATED:20251014T141620Z
LAST-MODIFIED:20251014T141620Z
UID:1028-1749441600-1749527999@compwall.co.uk
SUMMARY:Last Minute League Week 3
DESCRIPTION:Join Hang. for an exciting evening of Bouldering\, paraclimbing as they host a climbing competition on 9/6/25 at  – open to Adults. \n\n    We are not affiliated with the competition or connected to Hang. in any way\, the information is provided from public information and may be out of date\, please confirm with the venue before travelling.\n\nType of Competition\n\n\nClimbing Style\n\n\n\nBouldering\nYes\n\n\nLead\n\n\n\nSpeed\n\n\n\nParaclimbing\nYes\n\n\nEntry Level\n\n\nAge Group\nMale\nFemale\n\n\nVeteran\n\n\n\n\nAdult\nYes\nYes\n\n\nJunior (u21)\n\n\n\n\nYouth A (u19)\n\n\n\n\nYouth B (u17)\n\n\n\n\nYouth C (u15)\n\n\n\n\nYouth D (u13)\n\n\n\n\nYouth E (u11)\n\n\n\n\nPrices\n\n\nMembers\n5\n\n\nNon-Members\n5+PAYG\n\n\nYouth\n\n\n\nPrizes\n\n\nCategory\nPrize\n\n\nAdults\n\n\n\n\n  Please Note\n  Whilst every attempt has been made to ensure accuracy\, things can change without our pages being updated – we always advise you check with the venue directly for correct information as we cannot guarantee the information here is accurate.
URL:https://compwall.co.uk/event/last-minute-league-week-3-9/
LOCATION:hang.\, 9 Smithy Lane Hounslow\, London\, London\, TW3 1EH\, United Kingdom
CATEGORIES:Bouldering,Paraclimbing
END:VEVENT
BEGIN:VEVENT
DTSTART;TZID=Europe/London:20250609T040000
DTEND;TZID=Europe/London:20250610T035959
DTSTAMP:20260423T093811
CREATED:20251013T133311Z
LAST-MODIFIED:20251013T133311Z
UID:1004-1749441600-1749527999@compwall.co.uk
SUMMARY:Last Minute League Week 3
DESCRIPTION:Join Hang. for an exciting evening of Bouldering\, paraclimbing as they host a climbing competition on 9/6/25 at  – open to Adults. \n\n    We are not affiliated with the competition or connected to Hang. in any way\, the information is provided from public information and may be out of date\, please confirm with the venue before travelling.\n\nType of Competition\n\n\nClimbing Style\n\n\n\nBouldering\nYes\n\n\nLead\n\n\n\nSpeed\n\n\n\nParaclimbing\nYes\n\n\nEntry Level\n\n\nAge Group\nMale\nFemale\n\n\nVeteran\n\n\n\n\nAdult\nYes\nYes\n\n\nJunior (u21)\n\n\n\n\nYouth A (u19)\n\n\n\n\nYouth B (u17)\n\n\n\n\nYouth C (u15)\n\n\n\n\nYouth D (u13)\n\n\n\n\nYouth E (u11)\n\n\n\n\nPrices\n\n\nMembers\n5\n\n\nNon-Members\n5+PAYG\n\n\nYouth\n\n\n\nPrizes\n\n\nCategory\nPrize\n\n\nAdults\n\n\n\n\n  Please Note\n  Whilst every attempt has been made to ensure accuracy\, things can change without our pages being updated – we always advise you check with the venue directly for correct information as we cannot guarantee the information here is accurate.
URL:https://compwall.co.uk/event/last-minute-league-week-3-8/
LOCATION:hang.\, 9 Smithy Lane Hounslow\, London\, London\, TW3 1EH\, United Kingdom
CATEGORIES:Bouldering,Paraclimbing
END:VEVENT
BEGIN:VEVENT
DTSTART;TZID=Europe/London:20250609T040000
DTEND;TZID=Europe/London:20250610T035959
DTSTAMP:20260423T093811
CREATED:20251010T202145Z
LAST-MODIFIED:20251010T202145Z
UID:973-1749441600-1749527999@compwall.co.uk
SUMMARY:Last Minute League Week 3
DESCRIPTION:Join Hang. for an exciting evening of Bouldering\, paraclimbing as they host a climbing competition on 9/6/25 at  – open to Adults. \n\n    We are not affiliated with the competition or connected to Hang. in any way\, the information is provided from public information and may be out of date\, please confirm with the venue before travelling.\n\nType of Competition\n\n\nClimbing Style\n\n\n\nBouldering\nYes\n\n\nLead\n\n\n\nSpeed\n\n\n\nParaclimbing\nYes\n\n\nEntry Level\n\n\nAge Group\nMale\nFemale\n\n\nVeteran\n\n\n\n\nAdult\nYes\nYes\n\n\nJunior (u21)\n\n\n\n\nYouth A (u19)\n\n\n\n\nYouth B (u17)\n\n\n\n\nYouth C (u15)\n\n\n\n\nYouth D (u13)\n\n\n\n\nYouth E (u11)\n\n\n\n\nPrices\n\n\nMembers\n5\n\n\nNon-Members\n5+PAYG\n\n\nYouth\n\n\n\nPrizes\n\n\nCategory\nPrize\n\n\nAdults\n\n\n\n\n  Please Note\n  Whilst every attempt has been made to ensure accuracy\, things can change without our pages being updated – we always advise you check with the venue directly for correct information as we cannot guarantee the information here is accurate.
URL:https://compwall.co.uk/event/last-minute-league-week-3-7/
LOCATION:hang.\, 9 Smithy Lane Hounslow\, London\, London\, TW3 1EH\, United Kingdom
CATEGORIES:Bouldering,Paraclimbing
END:VEVENT
BEGIN:VEVENT
DTSTART;TZID=Europe/London:20250609T040000
DTEND;TZID=Europe/London:20250610T035959
DTSTAMP:20260423T093811
CREATED:20250608T202741Z
LAST-MODIFIED:20250608T202741Z
UID:806-1749441600-1749527999@compwall.co.uk
SUMMARY:Last Minute League Week 3
DESCRIPTION:Join Hang. for an exciting evening of Bouldering\, paraclimbing as they host a climbing competition on 9/6/25 at  – open to Adults. \n\n    We are not affiliated with the competition or connected to Hang. in any way\, the information is provided from public information and may be out of date\, please confirm with the venue before travelling.\n\nType of Competition\n\n\nClimbing Style\n\n\n\nBouldering\nYes\n\n\nLead\n\n\n\nSpeed\n\n\n\nParaclimbing\nYes\n\n\nEntry Level\n\n\nAge Group\nMale\nFemale\n\n\nVeteran\n\n\n\n\nAdult\nYes\nYes\n\n\nJunior (u21)\n\n\n\n\nYouth A (u19)\n\n\n\n\nYouth B (u17)\n\n\n\n\nYouth C (u15)\n\n\n\n\nYouth D (u13)\n\n\n\n\nYouth E (u11)\n\n\n\n\nPrices\n\n\nMembers\n5\n\n\nNon-Members\n5+PAYG\n\n\nYouth\n\n\n\nPrizes\n\n\nCategory\nPrize\n\n\nAdults\n\n\n\n\n  Please Note\n  Whilst every attempt has been made to ensure accuracy\, things can change without our pages being updated – we always advise you check with the venue directly for correct information as we cannot guarantee the information here is accurate.
URL:https://compwall.co.uk/event/last-minute-league-week-3-4/
LOCATION:hang.\, 9 Smithy Lane Hounslow\, London\, London\, TW3 1EH\, United Kingdom
CATEGORIES:Bouldering,Paraclimbing
END:VEVENT
BEGIN:VEVENT
DTSTART;TZID=Europe/London:20250607T120000
DTEND;TZID=Europe/London:20250607T180000
DTSTAMP:20260423T093811
CREATED:20250603T011240Z
LAST-MODIFIED:20251014T141538Z
UID:404-1749297600-1749319200@compwall.co.uk
SUMMARY:THE SLAB TEST 25
DESCRIPTION:Join The Climbing Lab for an exciting evening of Bouldering as they host a climbing competition on 7/6/25 at 12:00 PM – open to all climbers. \n\n\n    We are not affiliated with the competition or connected to The Climbing Lab in any way\, the information is provided from public information and may be out of date\, please confirm with the venue before travelling.\n\n\nType of Competition\n\n  Climbing Style\n  BoulderingYes\nLead\nSpeed\nParaclimbing\n\n\n\nEntry Level\n\n  \n    Age Group\n    Male\n    Female\n      \n  \n      \n        Veteran\n        \n        \n              \n\n      \n        Adult\n        \n        \n              \n\n      \n        Junior (u21)\n        \n        \n              \n\n      \n        Youth A (u19)\n        \n        \n              \n\n      \n        Youth B (u17)\n        \n        \n              \n\n      \n        Youth C (u15)\n        \n        \n              \n\n      \n        Youth D (u13)\n        \n        \n              \n\n      \n        Youth E (u11)\n        \n        \n              \n\n\nPrices\n\n  Members\n  Non-Members\n  Youth\n\n\nPrizes\n\n  CategoryPrize\n  No prizes listed.\n\n\n\n  Please Note\n  Whilst every attempt has been made to ensure accuracy\, things can change without our pages being updated – we always advise you check with the venue directly for correct information as we cannot guarantee the information here is accurate.
URL:https://compwall.co.uk/event/the-slab-test-25/
LOCATION:The Climbing Lab\, Units 14 & 15\, Kirkstall Industrial Park\,\, Leeds\, Yorkshire and the Humber\, LS4 2AZ\, United Kingdom
CATEGORIES:Bouldering
ATTACH;FMTTYPE=image/webp:https://compwall.co.uk/wp-content/uploads/2025/06/woman-practicing-rock-climbing-on-260nw-1035458215-e1748818226337-YvGc7d.webp
END:VEVENT
END:VCALENDAR