BEGIN:VCALENDAR
VERSION:2.0
PRODID:-//CompWall.co.uk - ECPv6.15.17.1//NONSGML v1.0//EN
CALSCALE:GREGORIAN
METHOD:PUBLISH
X-WR-CALNAME:CompWall.co.uk
X-ORIGINAL-URL:https://compwall.co.uk
X-WR-CALDESC:Events for CompWall.co.uk
REFRESH-INTERVAL;VALUE=DURATION:PT1H
X-Robots-Tag:noindex
X-PUBLISHED-TTL:PT1H
BEGIN:VTIMEZONE
TZID:Europe/London
BEGIN:DAYLIGHT
TZOFFSETFROM:+0000
TZOFFSETTO:+0100
TZNAME:BST
DTSTART:20250330T010000
END:DAYLIGHT
BEGIN:STANDARD
TZOFFSETFROM:+0100
TZOFFSETTO:+0000
TZNAME:GMT
DTSTART:20251026T010000
END:STANDARD
BEGIN:DAYLIGHT
TZOFFSETFROM:+0000
TZOFFSETTO:+0100
TZNAME:BST
DTSTART:20260329T010000
END:DAYLIGHT
BEGIN:STANDARD
TZOFFSETFROM:+0100
TZOFFSETTO:+0000
TZNAME:GMT
DTSTART:20261025T010000
END:STANDARD
BEGIN:DAYLIGHT
TZOFFSETFROM:+0000
TZOFFSETTO:+0100
TZNAME:BST
DTSTART:20270328T010000
END:DAYLIGHT
BEGIN:STANDARD
TZOFFSETFROM:+0100
TZOFFSETTO:+0000
TZNAME:GMT
DTSTART:20271031T010000
END:STANDARD
END:VTIMEZONE
BEGIN:VEVENT
DTSTART;TZID=Europe/London:20260403T080000
DTEND;TZID=Europe/London:20260403T210000
DTSTAMP:20260419T191237
CREATED:20251022T111744Z
LAST-MODIFIED:20251125T234652Z
UID:1119-1775203200-1775250000@compwall.co.uk
SUMMARY:Winter Boulder League R5 (9/3-3/4)
DESCRIPTION:🏛️ Venue\nOswestry Climbing Den\n\n\n✨ Name\nWinter Boulder League R5 (9/3-3/4)\n\n\n🏆 Type of Competition\nBoulder\n\n\n👥 Entry Categories\nAll\n\n\n💰 Price\n9\n\n\n📝 Notes\n15th Winter Boulder League\n\n\n🔗 Event Page\nLink to Info.\n\n\n⚠️ Disclaimer: This listing is based on publicly available data. Please verify with Oswestry Climbing Den before attending.
URL:https://compwall.co.uk/event/winter-boulder-league-r5-9-3-3-4/
LOCATION:Oswestry Climbing Den\, Unti 11 Maesbury Road\, Oswestry\, West Midlands\, Sy10 8HA\, United Kingdom
CATEGORIES:Boulder
ATTACH;FMTTYPE=image/jpeg:https://compwall.co.uk/wp-content/uploads/2025/06/3252323206_78e892b9f9_b.jpg
END:VEVENT
BEGIN:VEVENT
DTSTART;TZID=Europe/London:20260418T090000
DTEND;TZID=Europe/London:20260418T180000
DTSTAMP:20260419T191237
CREATED:20251106T124311Z
LAST-MODIFIED:20251125T234653Z
UID:1281-1776502800-1776535200@compwall.co.uk
SUMMARY:The Project’s Big Weekend
DESCRIPTION:🏛️ Venue\nThe Project Climbing Centre\n\n\n✨ Name\nThe Project’s Big Weekend\n\n\n🏆 Type of Competition\nBoulder\n\n\n👥 Entry Categories\nAdults\n\n\n💰 Price\n£20\n\n\n📝 Notes\n💶 CASH prizes for finalists\, giveaways\, workshops\, and plenty more.\nEarly Bird Passes are available for just £20 until the end of the year \n\n\n🔗 Event Page\nLink to Info.\n\n\n⚠️ Disclaimer: This listing is based on publicly available data. Please verify with The Project Climbing Centre before attending.
URL:https://compwall.co.uk/event/the-projects-big-weekend/
LOCATION:The Project Climbing Centre\, Dolphin Centre\, Poole\, South West\, BH15 1UD\, United Kingdom
CATEGORIES:Boulder
ATTACH;FMTTYPE=image/jpeg:https://compwall.co.uk/wp-content/uploads/pexels-cottonbro-6700828-scaled-yFr8x7-1.jpg
END:VEVENT
END:VCALENDAR