BEGIN:VCALENDAR
VERSION:2.0
PRODID:-//CompWall.co.uk - ECPv6.15.17.1//NONSGML v1.0//EN
CALSCALE:GREGORIAN
METHOD:PUBLISH
X-WR-CALNAME:CompWall.co.uk
X-ORIGINAL-URL:https://compwall.co.uk
X-WR-CALDESC:Events for CompWall.co.uk
REFRESH-INTERVAL;VALUE=DURATION:PT1H
X-Robots-Tag:noindex
X-PUBLISHED-TTL:PT1H
BEGIN:VTIMEZONE
TZID:Europe/London
BEGIN:DAYLIGHT
TZOFFSETFROM:+0000
TZOFFSETTO:+0100
TZNAME:BST
DTSTART:20250330T010000
END:DAYLIGHT
BEGIN:STANDARD
TZOFFSETFROM:+0100
TZOFFSETTO:+0000
TZNAME:GMT
DTSTART:20251026T010000
END:STANDARD
BEGIN:DAYLIGHT
TZOFFSETFROM:+0000
TZOFFSETTO:+0100
TZNAME:BST
DTSTART:20260329T010000
END:DAYLIGHT
BEGIN:STANDARD
TZOFFSETFROM:+0100
TZOFFSETTO:+0000
TZNAME:GMT
DTSTART:20261025T010000
END:STANDARD
BEGIN:DAYLIGHT
TZOFFSETFROM:+0000
TZOFFSETTO:+0100
TZNAME:BST
DTSTART:20270328T010000
END:DAYLIGHT
BEGIN:STANDARD
TZOFFSETFROM:+0100
TZOFFSETTO:+0000
TZNAME:GMT
DTSTART:20271031T010000
END:STANDARD
END:VTIMEZONE
BEGIN:VEVENT
DTSTART;TZID=Europe/London:20260102T080000
DTEND;TZID=Europe/London:20260102T210000
DTSTAMP:20260421T133400
CREATED:20251022T111556Z
LAST-MODIFIED:20251125T234555Z
UID:1116-1767340800-1767387600@compwall.co.uk
SUMMARY:Winter Boulder League R2 (8/12-2/1)
DESCRIPTION:🏛️ Venue\nOswestry Climbing Den\n\n\n✨ Name\nWinter Boulder League R2 (8/12-2/1)\n\n\n🏆 Type of Competition\nBoulder\n\n\n👥 Entry Categories\nAll\n\n\n💰 Price\n9\n\n\n📝 Notes\n15th Winter Boulder League\n\n\n🔗 Event Page\nLink to Info.\n\n\n⚠️ Disclaimer: This listing is based on publicly available data. Please verify with Oswestry Climbing Den before attending.
URL:https://compwall.co.uk/event/winter-boulder-league-r2-8-12-2-1/
LOCATION:Oswestry Climbing Den\, Unti 11 Maesbury Road\, Oswestry\, West Midlands\, Sy10 8HA\, United Kingdom
CATEGORIES:Boulder
ATTACH;FMTTYPE=image/jpeg:https://compwall.co.uk/wp-content/uploads/2025/10/climbing-hold-bouldering-climbing-sport-climbing-adventure-rock-climbing-1624384-pxhere.com_-scaled-DCFyfi.jpg
END:VEVENT
BEGIN:VEVENT
DTSTART;TZID=Europe/London:20260111T000000
DTEND;TZID=Europe/London:20260111T000000
DTSTAMP:20260421T133400
CREATED:20251113T225405Z
LAST-MODIFIED:20251125T234556Z
UID:1339-1768089600-1768089600@compwall.co.uk
SUMMARY:Winter Bouldering League R2 15/12-11/1
DESCRIPTION:🏛️ Venue\nBoulder UK\n\n\n✨ Name\nWinter Bouldering League R2 15/12-11/1\n\n\n🏆 Type of Competition\nBoulder\n\n\n👥 Entry Categories\nAdults\n\n\n📝 Notes\nThe league is 𝗙𝗥𝗘𝗘 𝘁𝗼 𝗲𝗻𝘁𝗲𝗿 with your normal wall entry\, and there’ll be 𝘁𝗼𝗽 𝗽𝗿𝗶𝘇𝗲𝘀 up for grabs from our brilliant sponsors. 👀\n𝗛𝗲𝗿𝗲’𝘀 𝗵𝗼𝘄 𝗶𝘁 𝘄𝗼𝗿𝗸𝘀:\n• 𝟰 𝗿𝗼𝘂𝗻𝗱𝘀 + 𝗚𝗿𝗮𝗻𝗱 𝗙𝗶𝗻𝗮𝗹 in February 2026\n• 𝟮𝟬 𝗯𝗹𝗼𝗰𝘀 𝗽𝗲𝗿 𝗿𝗼𝘂𝗻𝗱\, each open for 3–4 weeks\n• 𝟭𝟬𝟬𝟬 𝗽𝗼𝗶𝗻𝘁𝘀 𝗽𝗲𝗿 𝗯𝗹𝗼𝗰\, split between everyone who tops it\n• 𝗦𝗰𝗼𝗿𝗶𝗻𝗴 𝘃𝗶𝗮 @griptonite 🤓\n• 𝗖𝗹𝗶𝗺𝗯𝗲𝗿𝘀 𝗰𝗼𝗺𝗽𝗹𝗲𝘁𝗶𝗻𝗴 𝗮𝗹𝗹 𝟰 𝗿𝗼𝘂𝗻𝗱𝘀 will automatically be entered into a prize draw for some awesome gear 🎁 \n𝗗𝗮𝘁𝗲𝘀:\n🧊 Round 1 — 17 Nov 25 → 14 Dec 25\n🧊 Round 2 — 15 Dec 25 → 11 Jan 26\n🧊 Round 3 — 12 Jan 26 → 11 Feb 26\n🧊 Round 4 + Grand Final — 14 Feb 26\n\n\n🔗 Event Page\nLink to Info.\n\n\n⚠️ Disclaimer: This listing is based on publicly available data. Please verify with Boulder UK before attending.
URL:https://compwall.co.uk/event/winter-bouldering-league-r2-15-12-11-1/
LOCATION:Boulder UK\, Unit 3B\, Carnfield Place\, Walton Summit\, Preston\, North West\, PR5 8AN\, United Kingdom
CATEGORIES:Boulder
ATTACH;FMTTYPE=image/jpeg:https://compwall.co.uk/wp-content/uploads/2025/06/6762103073_8f51b7ca9c_b.jpg
END:VEVENT
BEGIN:VEVENT
DTSTART;TZID=Europe/London:20260115T090000
DTEND;TZID=Europe/London:20260115T210000
DTSTAMP:20260421T133400
CREATED:20251104T162834Z
LAST-MODIFIED:20251125T234607Z
UID:1229-1768467600-1768510800@compwall.co.uk
SUMMARY:Winter Boulder League R3 (6/1 - 15/1)
DESCRIPTION:🏛️ Venue\nLlangorse Multi Activity Centre\n\n\n✨ Name\nWinter Boulder League R3 (6/1 – 15/1)\n\n\n🏆 Type of Competition\nBoulder\n\n\n👥 Entry Categories\nAdult\, U16\, U12\, Non-Binary\n\n\n📝 Notes\nEach round runs for 10 days with 30 problems across the grades – so plenty of time to get stuff done\, and as many sessions as you can squeeze in.\n✨ Your best 3 rounds count – so no stress if you can’t make one\, or have a shocker 🫣 \n🎟️ Raffle prizes every round – hand in your scorecard to enter! \n\n\n\n🔗 Event Page\nLink to Info.\n\n\n⚠️ Disclaimer: This listing is based on publicly available data. Please verify with Llangorse Multi Activity Centre before attending.
URL:https://compwall.co.uk/event/winter-boulder-league-r3-6-1-15-1/
LOCATION:Llangorse Multi Activity Centre\, The Gilfach Llangorse\, Brecon\, Wales\, LD3 7UH\, United Kingdom
CATEGORIES:Boulder
ATTACH;FMTTYPE=image/jpeg:https://compwall.co.uk/wp-content/uploads/pexels-pavel-danilyuk-7591293-scaled-DJmRTv-1.jpg
END:VEVENT
BEGIN:VEVENT
DTSTART;TZID=Europe/London:20260119T180000
DTEND;TZID=Europe/London:20260119T200000
DTSTAMP:20260421T133400
CREATED:20251014T141738Z
LAST-MODIFIED:20251125T234608Z
UID:1045-1768845600-1768852800@compwall.co.uk
SUMMARY:Winter  Boulder League R3
DESCRIPTION:⚠️ Non-Affiliated EventWe are not connected with the organiser — details may change\, please confirm with the venue.\n\n\n🏆 Type of Competition\nBouldering\n\n\n👥 Entry Categories\nAdults\n\n\n🎁 Prizes\nFALSE\n\n\n📝 Notes\nFALSE\n\n\n🔗 Event Page\nView Event Page\n\n\n⚠️ Disclaimer: This listing is based on publicly available data. Please verify with Flashpoint Swansea before attending.
URL:https://compwall.co.uk/event/winter-boulder-league-r3-2/
LOCATION:Flashpoint Swansea\, Units 5a / 5B Parc Tawe Retail Park\, Swansea\, Wales\, SA1 2AL\, United Kingdom
CATEGORIES:Bouldering
ATTACH;FMTTYPE=image/jpeg:https://compwall.co.uk/wp-content/uploads/2025/06/bouldering_comp1203c.jpg
END:VEVENT
BEGIN:VEVENT
DTSTART;TZID=Europe/London:20260120T000000
DTEND;TZID=Europe/London:20260120T000000
DTSTAMP:20260421T133400
CREATED:20251107T203805Z
LAST-MODIFIED:20251125T234610Z
UID:1314-1768867200-1768867200@compwall.co.uk
SUMMARY:Mint Conditions Rd3 (13/1 - 20/1)
DESCRIPTION:🏛️ Venue\nAwesome Walls Stoke\n\n\n✨ Name\nMint Conditions Rd3 (13/1 – 20/1)\n\n\n🏆 Type of Competition\nBoulder\n\n\n👥 Entry Categories\nAdults\n\n\n📝 Notes\n20 problems\, graded v1 – v8 – everyone has 1 full week to complete as many problems as they can.\nScoring as usual is done using the @9riptonite app\n\n\n🔗 Event Page\nLink to Info.\n\n\n⚠️ Disclaimer: This listing is based on publicly available data. Please verify with Awesome Walls Stoke before attending.
URL:https://compwall.co.uk/event/mint-conditions-rd3-13-1-20-1/
LOCATION:Awesome Walls Stoke\, Sefton Road\, Longton\, Stoke-on-Trent\, West Midlands\, ST3 5LW\, United Kingdom
CATEGORIES:Boulder
ATTACH;FMTTYPE=image/jpeg:https://compwall.co.uk/wp-content/uploads/2025/06/man-rock-sport-adventure-wall-male-1187474-pxhere.com_-scaled-G6E6x5.jpg
END:VEVENT
BEGIN:VEVENT
DTSTART;TZID=Europe/London:20260120T180000
DTEND;TZID=Europe/London:20260120T200000
DTSTAMP:20260421T133400
CREATED:20251014T141734Z
LAST-MODIFIED:20251125T234609Z
UID:1042-1768932000-1768939200@compwall.co.uk
SUMMARY:Winter  Boulder League R3
DESCRIPTION:⚠️ Non-Affiliated EventWe are not connected with the organiser — details may change\, please confirm with the venue.\n\n\n🏆 Type of Competition\nBouldering\n\n\n👥 Entry Categories\nAdults\n\n\n🎁 Prizes\nFALSE\n\n\n📝 Notes\nFALSE\n\n\n🔗 Event Page\nView Event Page\n\n\n⚠️ Disclaimer: This listing is based on publicly available data. Please verify with Flashpoint Bristol before attending.
URL:https://compwall.co.uk/event/winter-boulder-league-r3/
LOCATION:Flashpoint Bristol\, 2a Templegate Park Mead Street\, Bristol\, South West\, BS3 4RP\, United Kingdom
CATEGORIES:Bouldering
ATTACH;FMTTYPE=image/jpeg:https://compwall.co.uk/wp-content/uploads/2025/06/man-rock-sport-adventure-wall-male-1187474-pxhere.com_-scaled-G6E6x5.jpg
END:VEVENT
BEGIN:VEVENT
DTSTART;TZID=Europe/London:20260122T180000
DTEND;TZID=Europe/London:20260122T200000
DTSTAMP:20260421T133400
CREATED:20251014T141751Z
LAST-MODIFIED:20251125T234611Z
UID:1048-1769104800-1769112000@compwall.co.uk
SUMMARY:Winter Boulder League R3
DESCRIPTION:Join Flashpoint Cardiff for an exciting evening of Bouldering as they host a climbing competition on 22/1/26 at 18:00 – open to Adults. \n\n\n    We are not affiliated with the competition or connected to Flashpoint Cardiff in any way\, the information is provided from public information and may be out of date\, please confirm with the venue before travelling.\n\n\nType of Competition\n\n  Climbing Style\n  BoulderingYes\nLead\nSpeed\nParaclimbing\n\n\n\nEntry Level\n\n  \n    Age Group\n    Male\n    Female\n      \n  \n      \n        Veteran\n        \n        \n              \n\n      \n        Adult\n        Yes\n        Yes\n              \n\n      \n        Junior (u21)\n        \n        \n              \n\n      \n        Youth A (u19)\n        \n        \n              \n\n      \n        Youth B (u17)\n        \n        \n              \n\n      \n        Youth C (u15)\n        \n        \n              \n\n      \n        Youth D (u13)\n        \n        \n              \n\n      \n        Youth E (u11)\n        \n        \n              \n\n\nPrices\n\n  Members\n  Non-Members\n  Youth\n\n\nPrizes\n\n  CategoryPrize\n  Adults\n\n\n\n\n  Please Note\n  Whilst every attempt has been made to ensure accuracy\, things can change without our pages being updated – we always advise you check with the venue directly for correct information as we cannot guarantee the information here is accurate.
URL:https://compwall.co.uk/event/winter-boulder-league-r3-3/
LOCATION:Flashpoint Cardiff\, Unit D & E Freemans Parc 236 Penarth road\, Cardiff\, Wales\, CF118EQ\, United Kingdom
CATEGORIES:Bouldering
ATTACH;FMTTYPE=image/webp:https://compwall.co.uk/wp-content/uploads/2025/06/woman-practicing-rock-climbing-on-260nw-1035458221-e1748818043766-sFecAP.webp
END:VEVENT
BEGIN:VEVENT
DTSTART;TZID=Europe/London:20260130T080000
DTEND;TZID=Europe/London:20260130T210000
DTSTAMP:20260421T133400
CREATED:20251022T111741Z
LAST-MODIFIED:20251125T234622Z
UID:1117-1769760000-1769806800@compwall.co.uk
SUMMARY:Winter Boulder League R3 (12/1-30/1)
DESCRIPTION:🏛️ Venue\nOswestry Climbing Den\n\n\n✨ Name\nWinter Boulder League R3 (12/1-30/1)\n\n\n🏆 Type of Competition\nBoulder\n\n\n👥 Entry Categories\nAll\n\n\n💰 Price\n9\n\n\n📝 Notes\n15th Winter Boulder League\n\n\n🔗 Event Page\nLink to Info.\n\n\n⚠️ Disclaimer: This listing is based on publicly available data. Please verify with Oswestry Climbing Den before attending.
URL:https://compwall.co.uk/event/winter-boulder-league-r3-12-1-30-1/
LOCATION:Oswestry Climbing Den\, Unti 11 Maesbury Road\, Oswestry\, West Midlands\, Sy10 8HA\, United Kingdom
CATEGORIES:Boulder
ATTACH;FMTTYPE=image/jpeg:https://compwall.co.uk/wp-content/uploads/2025/06/Boulder_Worldcup_Vienna_29-05-2010b_final10_Chloe_Graftiaux.jpg
END:VEVENT
BEGIN:VEVENT
DTSTART;TZID=Europe/London:20260130T180000
DTEND;TZID=Europe/London:20260130T210000
DTSTAMP:20260421T133400
CREATED:20251113T225422Z
LAST-MODIFIED:20251125T234623Z
UID:1341-1769796000-1769806800@compwall.co.uk
SUMMARY:The Flash League R3
DESCRIPTION:🏛️ Venue\nHighball Climbing Centre\n\n\n✨ Name\nThe Flash League R3\n\n\n🏆 Type of Competition\nBoulder\n\n\n👥 Entry Categories\nAdults\n\n\n💰 Price\n5\n\n\n📝 Notes\nThe Flash League will consist of 4 rounds and 1 big finals event for the top 6 female and top 6 male climbers⚡️\n\n\n🔗 Event Page\nLink to Info.\n\n\n⚠️ Disclaimer: This listing is based on publicly available data. Please verify with Highball Climbing Centre before attending.
URL:https://compwall.co.uk/event/the-flash-league-r3/
LOCATION:Highball Climbing Centre\, 5 Whiffler Road\, Norwich\, East of England\, NR3 2AG\, United Kingdom
CATEGORIES:Boulder
ATTACH;FMTTYPE=image/jpeg:https://compwall.co.uk/wp-content/uploads/pexels-vladvictoria-26100395-scaled-Ml9sU5-1.jpg
END:VEVENT
BEGIN:VEVENT
DTSTART;TZID=Europe/London:20260211T000000
DTEND;TZID=Europe/London:20260211T000000
DTSTAMP:20260421T133400
CREATED:20251113T225423Z
LAST-MODIFIED:20251125T234624Z
UID:1342-1770768000-1770768000@compwall.co.uk
SUMMARY:Winter bouldering league R3 12/1-11/2
DESCRIPTION:🏛️ Venue\nBoulder UK\n\n\n✨ Name\nWinter bouldering league R3 12/1-11/2\n\n\n🏆 Type of Competition\nBoulder\n\n\n👥 Entry Categories\nAdults\n\n\n📝 Notes\nThe league is 𝗙𝗥𝗘𝗘 𝘁𝗼 𝗲𝗻𝘁𝗲𝗿 with your normal wall entry\, and there’ll be 𝘁𝗼𝗽 𝗽𝗿𝗶𝘇𝗲𝘀 up for grabs from our brilliant sponsors. 👀\n𝗛𝗲𝗿𝗲’𝘀 𝗵𝗼𝘄 𝗶𝘁 𝘄𝗼𝗿𝗸𝘀:\n• 𝟰 𝗿𝗼𝘂𝗻𝗱𝘀 + 𝗚𝗿𝗮𝗻𝗱 𝗙𝗶𝗻𝗮𝗹 in February 2026\n• 𝟮𝟬 𝗯𝗹𝗼𝗰𝘀 𝗽𝗲𝗿 𝗿𝗼𝘂𝗻𝗱\, each open for 3–4 weeks\n• 𝟭𝟬𝟬𝟬 𝗽𝗼𝗶𝗻𝘁𝘀 𝗽𝗲𝗿 𝗯𝗹𝗼𝗰\, split between everyone who tops it\n• 𝗦𝗰𝗼𝗿𝗶𝗻𝗴 𝘃𝗶𝗮 @griptonite 🤓\n• 𝗖𝗹𝗶𝗺𝗯𝗲𝗿𝘀 𝗰𝗼𝗺𝗽𝗹𝗲𝘁𝗶𝗻𝗴 𝗮𝗹𝗹 𝟰 𝗿𝗼𝘂𝗻𝗱𝘀 will automatically be entered into a prize draw for some awesome gear 🎁 \n𝗗𝗮𝘁𝗲𝘀:\n🧊 Round 1 — 17 Nov 25 → 14 Dec 25\n🧊 Round 2 — 15 Dec 25 → 11 Jan 26\n🧊 Round 3 — 12 Jan 26 → 11 Feb 26\n🧊 Round 4 + Grand Final — 14 Feb 26\n\n\n\n🔗 Event Page\nLink to Info.\n\n\n⚠️ Disclaimer: This listing is based on publicly available data. Please verify with Boulder UK before attending.
URL:https://compwall.co.uk/event/winter-bouldering-league-r3-12-1-11-2/
LOCATION:Boulder UK\, Unit 3B\, Carnfield Place\, Walton Summit\, Preston\, North West\, PR5 8AN\, United Kingdom
CATEGORIES:Boulder
ATTACH;FMTTYPE=image/jpeg:https://compwall.co.uk/wp-content/uploads/pexels-pavel-danilyuk-7590888-scaled-1jCPUm-1.jpg
END:VEVENT
BEGIN:VEVENT
DTSTART;TZID=Europe/London:20260214T000000
DTEND;TZID=Europe/London:20260214T000000
DTSTAMP:20260421T133400
CREATED:20251113T225434Z
LAST-MODIFIED:20251125T234625Z
UID:1344-1771027200-1771027200@compwall.co.uk
SUMMARY:Winter Boulder League R4 & Final
DESCRIPTION:🏛️ Venue\nBoulder UK\n\n\n✨ Name\nWinter Boulder League R4 & Final\n\n\n🏆 Type of Competition\nBoulder\n\n\n👥 Entry Categories\nAdults\n\n\n📝 Notes\nThe league is 𝗙𝗥𝗘𝗘 𝘁𝗼 𝗲𝗻𝘁𝗲𝗿 with your normal wall entry\, and there’ll be 𝘁𝗼𝗽 𝗽𝗿𝗶𝘇𝗲𝘀 up for grabs from our brilliant sponsors. 👀\n𝗛𝗲𝗿𝗲’𝘀 𝗵𝗼𝘄 𝗶𝘁 𝘄𝗼𝗿𝗸𝘀:\n• 𝟰 𝗿𝗼𝘂𝗻𝗱𝘀 + 𝗚𝗿𝗮𝗻𝗱 𝗙𝗶𝗻𝗮𝗹 in February 2026\n• 𝟮𝟬 𝗯𝗹𝗼𝗰𝘀 𝗽𝗲𝗿 𝗿𝗼𝘂𝗻𝗱\, each open for 3–4 weeks\n• 𝟭𝟬𝟬𝟬 𝗽𝗼𝗶𝗻𝘁𝘀 𝗽𝗲𝗿 𝗯𝗹𝗼𝗰\, split between everyone who tops it\n• 𝗦𝗰𝗼𝗿𝗶𝗻𝗴 𝘃𝗶𝗮 @griptonite 🤓\n• 𝗖𝗹𝗶𝗺𝗯𝗲𝗿𝘀 𝗰𝗼𝗺𝗽𝗹𝗲𝘁𝗶𝗻𝗴 𝗮𝗹𝗹 𝟰 𝗿𝗼𝘂𝗻𝗱𝘀 will automatically be entered into a prize draw for some awesome gear 🎁 \n𝗗𝗮𝘁𝗲𝘀:\n🧊 Round 1 — 17 Nov 25 → 14 Dec 25\n🧊 Round 2 — 15 Dec 25 → 11 Jan 26\n🧊 Round 3 — 12 Jan 26 → 11 Feb 26\n🧊 Round 4 + Grand Final — 14 Feb 26\n\n\n\n🔗 Event Page\nLink to Info.\n\n\n⚠️ Disclaimer: This listing is based on publicly available data. Please verify with Boulder UK before attending.
URL:https://compwall.co.uk/event/winter-boulder-league-r4-final/
LOCATION:Boulder UK\, Unit 3B\, Carnfield Place\, Walton Summit\, Preston\, North West\, PR5 8AN\, United Kingdom
CATEGORIES:Boulder
ATTACH;FMTTYPE=image/jpeg:https://compwall.co.uk/wp-content/uploads/pexels-pavel-danilyuk-7590938-scaled-xV37SF-1.jpg
END:VEVENT
BEGIN:VEVENT
DTSTART;TZID=Europe/London:20260217T000000
DTEND;TZID=Europe/London:20260217T000000
DTSTAMP:20260421T133400
CREATED:20251107T203808Z
LAST-MODIFIED:20251125T234626Z
UID:1316-1771286400-1771286400@compwall.co.uk
SUMMARY:Mint Conditions Rd4 (10/2 - 17/2)
DESCRIPTION:🏛️ Venue\nAwesome Walls Stoke\n\n\n✨ Name\nMint Conditions Rd4 (10/2 – 17/2)\n\n\n🏆 Type of Competition\nBoulder\n\n\n👥 Entry Categories\nAdults\n\n\n📝 Notes\n20 problems\, graded v1 – v8 – everyone has 1 full week to complete as many problems as they can.\nScoring as usual is done using the @9riptonite app\n\n\n🔗 Event Page\nLink to Info.\n\n\n⚠️ Disclaimer: This listing is based on publicly available data. Please verify with Awesome Walls Stoke before attending.
URL:https://compwall.co.uk/event/mint-conditions-rd4-10-2-17-2/
LOCATION:Awesome Walls Stoke\, Sefton Road\, Longton\, Stoke-on-Trent\, West Midlands\, ST3 5LW\, United Kingdom
CATEGORIES:Boulder
ATTACH;FMTTYPE=image/jpeg:https://compwall.co.uk/wp-content/uploads/2025/10/climbing-hold-bouldering-climbing-sport-climbing-adventure-rock-climbing-1624384-pxhere.com_-scaled-DCFyfi.jpg
END:VEVENT
BEGIN:VEVENT
DTSTART;TZID=Europe/London:20260219T090000
DTEND;TZID=Europe/London:20260219T210000
DTSTAMP:20260421T133400
CREATED:20251104T162849Z
LAST-MODIFIED:20251125T234637Z
UID:1232-1771491600-1771534800@compwall.co.uk
SUMMARY:Winter Boulder League R4 (10/2-19/2)
DESCRIPTION:🏛️ Venue\nLlangorse Multi Activity Centre\n\n\n✨ Name\nWinter Boulder League R4 (10/2-19/2)\n\n\n🏆 Type of Competition\nBoulder\n\n\n👥 Entry Categories\nAdult\, U16\, U12\, Non-Binary\n\n\n📝 Notes\nEach round runs for 10 days with 30 problems across the grades – so plenty of time to get stuff done\, and as many sessions as you can squeeze in.\n✨ Your best 3 rounds count – so no stress if you can’t make one\, or have a shocker 🫣 \n🎟️ Raffle prizes every round – hand in your scorecard to enter!\n\n\n\n🔗 Event Page\nLink to Info.\n\n\n⚠️ Disclaimer: This listing is based on publicly available data. Please verify with Llangorse Multi Activity Centre before attending.
URL:https://compwall.co.uk/event/winter-boulder-league-r4-10-2-19-2/
LOCATION:Llangorse Multi Activity Centre\, The Gilfach Llangorse\, Brecon\, Wales\, LD3 7UH\, United Kingdom
CATEGORIES:Boulder
ATTACH;FMTTYPE=image/jpeg:https://compwall.co.uk/wp-content/uploads/pexels-nikita-grishin-128711293-16114766-scaled-U19KpP-1.jpg
END:VEVENT
BEGIN:VEVENT
DTSTART;TZID=Europe/London:20260227T080000
DTEND;TZID=Europe/London:20260227T210000
DTSTAMP:20260421T133400
CREATED:20251022T111742Z
LAST-MODIFIED:20251125T234638Z
UID:1118-1772179200-1772226000@compwall.co.uk
SUMMARY:Winter Boulder League R4 (9/2-27/2)
DESCRIPTION:🏛️ Venue\nOswestry Climbing Den\n\n\n✨ Name\nWinter Boulder League R4 (9/2-27/2)\n\n\n🏆 Type of Competition\nBoulder\n\n\n👥 Entry Categories\nAll\n\n\n💰 Price\n9\n\n\n📝 Notes\n15th Winter Boulder League\n\n\n🔗 Event Page\nLink to Info.\n\n\n⚠️ Disclaimer: This listing is based on publicly available data. Please verify with Oswestry Climbing Den before attending.
URL:https://compwall.co.uk/event/winter-boulder-league-r4-9-2-27-2/
LOCATION:Oswestry Climbing Den\, Unti 11 Maesbury Road\, Oswestry\, West Midlands\, Sy10 8HA\, United Kingdom
CATEGORIES:Boulder
ATTACH;FMTTYPE=image/jpeg:https://compwall.co.uk/wp-content/uploads/2025/06/bouldering_comp1203c.jpg
END:VEVENT
BEGIN:VEVENT
DTSTART;TZID=Europe/London:20260227T180000
DTEND;TZID=Europe/London:20260227T210000
DTSTAMP:20260421T133400
CREATED:20251113T225439Z
LAST-MODIFIED:20251125T234639Z
UID:1346-1772215200-1772226000@compwall.co.uk
SUMMARY:The Flash League R4
DESCRIPTION:🏛️ Venue\nHighball Climbing Centre\n\n\n✨ Name\nThe Flash League R4\n\n\n🏆 Type of Competition\nBoulder\n\n\n👥 Entry Categories\nAdults\n\n\n💰 Price\n5\n\n\n📝 Notes\nThe Flash League will consist of 4 rounds and 1 big finals event for the top 6 female and top 6 male climbers⚡️\n\n\n🔗 Event Page\nLink to Info.\n\n\n⚠️ Disclaimer: This listing is based on publicly available data. Please verify with Highball Climbing Centre before attending.
URL:https://compwall.co.uk/event/the-flash-league-r4/
LOCATION:Highball Climbing Centre\, 5 Whiffler Road\, Norwich\, East of England\, NR3 2AG\, United Kingdom
CATEGORIES:Boulder
ATTACH;FMTTYPE=image/jpeg:https://compwall.co.uk/wp-content/uploads/pexels-pavel-danilyuk-7590954-scaled-hmfFUl-1.jpg
END:VEVENT
BEGIN:VEVENT
DTSTART;TZID=Europe/London:20260314T000000
DTEND;TZID=Europe/London:20260314T000000
DTSTAMP:20260421T133400
CREATED:20251125T231754Z
LAST-MODIFIED:20251125T234640Z
UID:1376-1773446400-1773446400@compwall.co.uk
SUMMARY:270 Boulder Comp
DESCRIPTION:🏛️ Venue270 CLIMBING✨ Name270 Boulder Comp🏆 Type of CompetitionBoulder👥 Entry CategoriesAdults🔗 Event PageLink to Info.⚠️ Disclaimer: This listing is based on publicly available data. Please verify with 270 CLIMBING before attending.
URL:https://compwall.co.uk/event/270-boulder-comp/
LOCATION:270 CLIMBING\, 270 Climbing Park Bentham Lane\,\, Witcombe\, South West\, GL3 4UD\, United Kingdom
CATEGORIES:Boulder
ATTACH;FMTTYPE=image/webp:https://compwall.co.uk/wp-content/uploads/2025/06/woman-practicing-rock-climbing-on-260nw-1035458221-e1748818043766-sFecAP.webp
END:VEVENT
BEGIN:VEVENT
DTSTART;TZID=Europe/London:20260327T180000
DTEND;TZID=Europe/London:20260327T210000
DTSTAMP:20260421T133400
CREATED:20251125T231755Z
LAST-MODIFIED:20251125T234640Z
UID:1377-1774634400-1774645200@compwall.co.uk
SUMMARY:The Flash League Final
DESCRIPTION:🏛️ Venue\nHighball Climbing Centre\n\n\n✨ Name\nThe Flash League Final\n\n\n🏆 Type of Competition\nBoulder\n\n\n👥 Entry Categories\nAdults\n\n\n💰 Price\n5\n\n\n📝 Notes\nThe Flash League will consist of 4 rounds and 1 big finals event for the top 6 female and top 6 male climbers⚡️\n\n\n🔗 Event Page\nLink to Info.\n\n\n⚠️ Disclaimer: This listing is based on publicly available data. Please verify with Highball Climbing Centre before attending.
URL:https://compwall.co.uk/event/the-flash-league-final/
LOCATION:Highball Climbing Centre\, 5 Whiffler Road\, Norwich\, East of England\, NR3 2AG\, United Kingdom
CATEGORIES:Boulder
ATTACH;FMTTYPE=image/jpeg:https://compwall.co.uk/wp-content/uploads/pexels-cottonbro-6700828-scaled-yFr8x7-1.jpg
END:VEVENT
BEGIN:VEVENT
DTSTART;TZID=Europe/London:20260403T080000
DTEND;TZID=Europe/London:20260403T210000
DTSTAMP:20260421T133400
CREATED:20251022T111744Z
LAST-MODIFIED:20251125T234652Z
UID:1119-1775203200-1775250000@compwall.co.uk
SUMMARY:Winter Boulder League R5 (9/3-3/4)
DESCRIPTION:🏛️ Venue\nOswestry Climbing Den\n\n\n✨ Name\nWinter Boulder League R5 (9/3-3/4)\n\n\n🏆 Type of Competition\nBoulder\n\n\n👥 Entry Categories\nAll\n\n\n💰 Price\n9\n\n\n📝 Notes\n15th Winter Boulder League\n\n\n🔗 Event Page\nLink to Info.\n\n\n⚠️ Disclaimer: This listing is based on publicly available data. Please verify with Oswestry Climbing Den before attending.
URL:https://compwall.co.uk/event/winter-boulder-league-r5-9-3-3-4/
LOCATION:Oswestry Climbing Den\, Unti 11 Maesbury Road\, Oswestry\, West Midlands\, Sy10 8HA\, United Kingdom
CATEGORIES:Boulder
ATTACH;FMTTYPE=image/jpeg:https://compwall.co.uk/wp-content/uploads/2025/06/3252323206_78e892b9f9_b.jpg
END:VEVENT
BEGIN:VEVENT
DTSTART;TZID=Europe/London:20260418T090000
DTEND;TZID=Europe/London:20260418T180000
DTSTAMP:20260421T133400
CREATED:20251106T124311Z
LAST-MODIFIED:20251125T234653Z
UID:1281-1776502800-1776535200@compwall.co.uk
SUMMARY:The Project’s Big Weekend
DESCRIPTION:🏛️ Venue\nThe Project Climbing Centre\n\n\n✨ Name\nThe Project’s Big Weekend\n\n\n🏆 Type of Competition\nBoulder\n\n\n👥 Entry Categories\nAdults\n\n\n💰 Price\n£20\n\n\n📝 Notes\n💶 CASH prizes for finalists\, giveaways\, workshops\, and plenty more.\nEarly Bird Passes are available for just £20 until the end of the year \n\n\n🔗 Event Page\nLink to Info.\n\n\n⚠️ Disclaimer: This listing is based on publicly available data. Please verify with The Project Climbing Centre before attending.
URL:https://compwall.co.uk/event/the-projects-big-weekend/
LOCATION:The Project Climbing Centre\, Dolphin Centre\, Poole\, South West\, BH15 1UD\, United Kingdom
CATEGORIES:Boulder
ATTACH;FMTTYPE=image/jpeg:https://compwall.co.uk/wp-content/uploads/pexels-cottonbro-6700828-scaled-yFr8x7-1.jpg
END:VEVENT
END:VCALENDAR