BEGIN:VCALENDAR
VERSION:2.0
PRODID:-//CompWall.co.uk - ECPv6.15.17.1//NONSGML v1.0//EN
CALSCALE:GREGORIAN
METHOD:PUBLISH
X-WR-CALNAME:CompWall.co.uk
X-ORIGINAL-URL:https://compwall.co.uk
X-WR-CALDESC:Events for CompWall.co.uk
REFRESH-INTERVAL;VALUE=DURATION:PT1H
X-Robots-Tag:noindex
X-PUBLISHED-TTL:PT1H
BEGIN:VTIMEZONE
TZID:Europe/London
BEGIN:DAYLIGHT
TZOFFSETFROM:+0000
TZOFFSETTO:+0100
TZNAME:BST
DTSTART:20240331T010000
END:DAYLIGHT
BEGIN:STANDARD
TZOFFSETFROM:+0100
TZOFFSETTO:+0000
TZNAME:GMT
DTSTART:20241027T010000
END:STANDARD
BEGIN:DAYLIGHT
TZOFFSETFROM:+0000
TZOFFSETTO:+0100
TZNAME:BST
DTSTART:20250330T010000
END:DAYLIGHT
BEGIN:STANDARD
TZOFFSETFROM:+0100
TZOFFSETTO:+0000
TZNAME:GMT
DTSTART:20251026T010000
END:STANDARD
BEGIN:DAYLIGHT
TZOFFSETFROM:+0000
TZOFFSETTO:+0100
TZNAME:BST
DTSTART:20260329T010000
END:DAYLIGHT
BEGIN:STANDARD
TZOFFSETFROM:+0100
TZOFFSETTO:+0000
TZNAME:GMT
DTSTART:20261025T010000
END:STANDARD
END:VTIMEZONE
BEGIN:VEVENT
DTSTART;TZID=Europe/London:20251115T040000
DTEND;TZID=Europe/London:20251116T035959
DTSTAMP:20260419T210240
CREATED:20251014T141706Z
LAST-MODIFIED:20251105T002254Z
UID:1034-1763179200-1763265599@compwall.co.uk
SUMMARY:Bristol Climbing Championship
DESCRIPTION:Join Redpoint Bristol for an exciting evening of Climbing as they host a climbing competition on 15/11/25 at 9:00 AM – open to Veteran\, Adults\, Youth C\, Youth D and Youth E. \nWe are not affiliated with the competition or connected to Redpoint Bristol in any way\, the information is provided from public information and may be out of date\, please confirm with the venue before travelling.\nType of Competition\n\n\n\nClimbing Style\n \n\n\nBouldering\n \n\n\nLead\nYes\n\n\nSpeed\n \n\n\nParaclimbing\nYes\n\n\n\nEntry Level\n\n\n\nAge Group\nMale\nFemale\n\n\nVeteran\nYes\nYes\n\n\nAdult\nYes\nYes\n\n\nJunior (u21)\n \n \n\n\nYouth A (u19)\n \n \n\n\nYouth B (u17)\n \n \n\n\nYouth C (u15)\nYes\nYes\n\n\nYouth D (u13)\nYes\nYes\n\n\nYouth E (u11)\nYes\nYes\n\n\n\nPrices\n\n\n\nMembers\n12\n\n\nNon-Members\n22\n\n\nYouth\n \n\n\n\nPrizes\n\n\n\nCategory\nPrize\n\n\nVeteran\n \n\n\nAdults\n \n\n\nYouth C\n \n\n\nYouth D\n \n\n\nYouth E\n \n\n\n\nPlease NoteWhilst every attempt has been made to ensure accuracy\, things can change without our pages being updated – we always advise you check with the venue directly for correct information as we cannot guarantee the information here is accurate.
URL:https://compwall.co.uk/event/bristol-climbing-championship-2/
LOCATION:Redpoint Bristol\, 40 Winterstoke Road\, Bristol\, South West\, BS3 2NW\, United Kingdom
CATEGORIES:Bouldering,Paraclimbing
ATTACH;FMTTYPE=image/webp:https://compwall.co.uk/wp-content/uploads/2025/06/woman-practicing-rock-climbing-on-260nw-1035458215-e1748818226337-YvGc7d.webp
END:VEVENT
END:VCALENDAR